BEGIN:VCALENDAR
PRODID:NingEventWidget-v1
VERSION:2.0
METHOD:PUBLISH
BEGIN:VTIMEZONE
TZID:Europe/Paris
X-LIC-LOCATION:Europe/Paris
BEGIN:DAYLIGHT
TZOFFSETFROM:+0100
TZOFFSETTO:+0200
TZNAME:CEST
DTSTART:19700329T020000
RRULE:FREQ=YEARLY;BYMONTH=3;BYDAY=-1SU
END:DAYLIGHT
BEGIN:STANDARD
TZOFFSETFROM:+0200
TZOFFSETTO:+0100
TZNAME:CET
DTSTART:19701025T030000
RRULE:FREQ=YEARLY;BYMONTH=10;BYDAY=-1SU
END:STANDARD
END:VTIMEZONE
BEGIN:VEVENT
UID:2485226:Event:2307404
DTSTAMP:20260420T191421Z
SUMMARY:conférence -  Nécessité du travail sur soi
DESCRIPTION:Conférences\n« Nécessité du travail sur soi »\nSame
 di 2 mai 3 MAI 2015 à 16h00\nNous vivons dans une société moderne o
 u nous avons la liberté d’agir, de penser, et d’aimer et pourtant
 … et pourtant bien des personnes ne vivent pas en paix et ne se réa
 lise pas. Notre personnalité (ego) porte en elle des résistances à 
 l’épanouissement de son Être. Par ce propos nous essayerons de com
 prendre l’importance de se remettre en question et de réfléchir su
 r le sens de sa vie.\n \nPar Véronique SORRENTINO\n \n\n\nPour plus
  d'information, aller sur https://epanews.fr/events/conf-rence-n-cessi
 t-du-travail-sur-soi
DTSTART;TZID=Europe/Paris:20150502T160000
DTEND;TZID=Europe/Paris:20150502T170000
CATEGORIES:13
LOCATION:Forum nature d'Aubagne
WEBSITE:http://www.connaissanceetsavoir.com
URL:http://www.connaissanceetsavoir.com
CONTACT:06 17 21 36 95
ORGANIZER;CN="Véronique SORRENTINO":https://epanews.fr/profile/Connai
 ssanceetSavoir
ATTACH;FMTTYPE="image/jpeg":http://storage.ning.com/topology/rest/1.0/
 file/get/1663386125?profile=original
ATTENDEE;ROLE=REQ-PARTICIPANT;PARTSTAT=ACCEPTED;RSVP=TRUE;CN="Véroniq
 ue SORRENTINO":https://epanews.fr/profile/ConnaissanceetSavoir
END:VEVENT
END:VCALENDAR
