BEGIN:VCALENDAR
PRODID:NingEventWidget-v1
VERSION:2.0
METHOD:PUBLISH
BEGIN:VTIMEZONE
TZID:Europe/Paris
X-LIC-LOCATION:Europe/Paris
BEGIN:DAYLIGHT
TZOFFSETFROM:+0100
TZOFFSETTO:+0200
TZNAME:CEST
DTSTART:19700329T020000
RRULE:FREQ=YEARLY;BYMONTH=3;BYDAY=-1SU
END:DAYLIGHT
BEGIN:STANDARD
TZOFFSETFROM:+0200
TZOFFSETTO:+0100
TZNAME:CET
DTSTART:19701025T030000
RRULE:FREQ=YEARLY;BYMONTH=10;BYDAY=-1SU
END:STANDARD
END:VTIMEZONE
BEGIN:VEVENT
UID:2485226:Event:579412
DTSTAMP:20260423T080045Z
SUMMARY:Conférence \"Mon passé, laisse-moi passer\"
DESCRIPTION:Jeudi 24 novembre à 20h30 à Montélimar\nConférence \"M
 on passé, laisse-moi passer\"\nAnimée par Danielle RIBES qui est con
 sultante en relations humaines, thérapeute psychocorporel, professeur
  de yoga et sophrologie, certifiée en mouvement biodynamique\nEntrée
  2€\n\nPour plus d'information, aller sur https://epanews.fr/events/
 conf-rence-mon-pass-laisse-moi-passer
DTSTART;TZID=Europe/Paris:20111124T203000
DTEND;TZID=Europe/Paris:20111124T223000
CATEGORIES:26
LOCATION:MONTELIMAR
WEBSITE:http://www.centre-cikitsa.com/centre
URL:http://www.centre-cikitsa.com/centre
CONTACT:04 75 46 20 71
ORGANIZER;CN="Centre CIKITSA":https://epanews.fr/profile/CentreCIKITSA
ATTACH;FMTTYPE="image/jpeg":http://storage.ning.com/topology/rest/1.0/
 file/get/1662482762?profile=original
ATTENDEE;ROLE=REQ-PARTICIPANT;PARTSTAT=ACCEPTED;RSVP=TRUE;CN="Centre C
 IKITSA":https://epanews.fr/profile/CentreCIKITSA
END:VEVENT
END:VCALENDAR
