BEGIN:VCALENDAR
PRODID:NingEventWidget-v1
VERSION:2.0
METHOD:PUBLISH
BEGIN:VTIMEZONE
TZID:Europe/Paris
X-LIC-LOCATION:Europe/Paris
BEGIN:DAYLIGHT
TZOFFSETFROM:+0100
TZOFFSETTO:+0200
TZNAME:CEST
DTSTART:19700329T020000
RRULE:FREQ=YEARLY;BYMONTH=3;BYDAY=-1SU
END:DAYLIGHT
BEGIN:STANDARD
TZOFFSETFROM:+0200
TZOFFSETTO:+0100
TZNAME:CET
DTSTART:19701025T030000
RRULE:FREQ=YEARLY;BYMONTH=10;BYDAY=-1SU
END:STANDARD
END:VTIMEZONE
BEGIN:VEVENT
UID:2485226:Event:2109853
DTSTAMP:20260422T153157Z
SUMMARY:Conférence Minéraux et corps humain : le lien simple
DESCRIPTION:Conférence \"Minéraux et corps humain : le lien simple\"
  par Philippe Mathelet\n Philippe Mathelet jette un pont entre tradit
 ion et science et nous fait découvrir  les liens naturels qui existe
 nt entre les  minéraux et nos métabolismes. Ils permettent d’ide
 ntifier nos besoins vitaux et de retrouver notre harmonie naturelle.\n
 Après avoir répondu aux questions de l'auditoire, il dédicacera so
 n livre.\n Tarif 5€\nInscription Nadège 06 23 01 35 96\nwww.larcen
 cieldupartage.org\n\nPour plus d'information, aller sur https://epanew
 s.fr/events/conf-rence-min-raux-et-corps-humain-le-lien-simple
DTSTART;TZID=Europe/Paris:20150116T193000
DTEND;TZID=Europe/Paris:20150116T213000
CATEGORIES:11
LOCATION:narbonne
WEBSITE:http://www.larcencieldupartage.org
URL:http://www.larcencieldupartage.org
CONTACT:0623013596
ORGANIZER;CN="L'arc en ciel du partage":https://epanews.fr/profile/Lar
 cencieldupartage
ATTACH;FMTTYPE="image/jpeg":http://storage.ning.com/topology/rest/1.0/
 file/get/1663247108?profile=original
ATTENDEE;ROLE=REQ-PARTICIPANT;PARTSTAT=ACCEPTED;RSVP=TRUE;CN="L'arc en
  ciel du partage":https://epanews.fr/profile/Larcencieldupartage
END:VEVENT
END:VCALENDAR
