BEGIN:VCALENDAR
PRODID:NingEventWidget-v1
VERSION:2.0
METHOD:PUBLISH
BEGIN:VTIMEZONE
TZID:Europe/Paris
X-LIC-LOCATION:Europe/Paris
BEGIN:DAYLIGHT
TZOFFSETFROM:+0100
TZOFFSETTO:+0200
TZNAME:CEST
DTSTART:19700329T020000
RRULE:FREQ=YEARLY;BYMONTH=3;BYDAY=-1SU
END:DAYLIGHT
BEGIN:STANDARD
TZOFFSETFROM:+0200
TZOFFSETTO:+0100
TZNAME:CET
DTSTART:19701025T030000
RRULE:FREQ=YEARLY;BYMONTH=10;BYDAY=-1SU
END:STANDARD
END:VTIMEZONE
BEGIN:VEVENT
UID:2485226:Event:1726048
DTSTAMP:20260425T183358Z
SUMMARY:Conférence « Mettre en application les vertus des 7 rayons s
 acrés\"
DESCRIPTION:« Mettre en application les vertus des 7 rayons sacrés\n
 peut grandement améliorer votre vie »\npar Joéliah\nJoéliah, guide
  en développement de conscience d’Etre et spécialiste des 7 rayons
  sacrés, vous l’expliquera avec de nombreux exemples de réussite p
 ersonnelle.\nParticipation : 10 € - Billets en vente à Pégase – 
 Réservations obligatoires, places limitées !\n\nPour plus d'informat
 ion, aller sur https://epanews.fr/events/conf-rence-mettre-en-applicat
 ion-les-vertus-des-7-rayons-sacr-s
DTSTART;TZID=Europe/Paris:20140321T200000
DTEND;TZID=Europe/Paris:20140321T220000
CATEGORIES:47, 24, 33, 40, 64
LOCATION:Espace Mouneyra
WEBSITE:http://www.librairie-pegase.fr
URL:http://www.librairie-pegase.fr
CONTACT:05 56 51 38 12
ORGANIZER;CN="Librairie PEGASE":https://epanews.fr/profile/LibrairiePE
 GASE
ATTACH;FMTTYPE="image/jpeg":
ATTENDEE;ROLE=REQ-PARTICIPANT;PARTSTAT=ACCEPTED;RSVP=TRUE;CN="Librairi
 e PEGASE":https://epanews.fr/profile/LibrairiePEGASE
END:VEVENT
END:VCALENDAR
