BEGIN:VCALENDAR
PRODID:NingEventWidget-v1
VERSION:2.0
METHOD:PUBLISH
BEGIN:VTIMEZONE
TZID:Europe/Paris
X-LIC-LOCATION:Europe/Paris
BEGIN:DAYLIGHT
TZOFFSETFROM:+0100
TZOFFSETTO:+0200
TZNAME:CEST
DTSTART:19700329T020000
RRULE:FREQ=YEARLY;BYMONTH=3;BYDAY=-1SU
END:DAYLIGHT
BEGIN:STANDARD
TZOFFSETFROM:+0200
TZOFFSETTO:+0100
TZNAME:CET
DTSTART:19701025T030000
RRULE:FREQ=YEARLY;BYMONTH=10;BYDAY=-1SU
END:STANDARD
END:VTIMEZONE
BEGIN:VEVENT
UID:2485226:Event:1332975
DTSTAMP:20260422T015739Z
SUMMARY:Conférence Marie Lise Labonté
DESCRIPTION:Conférence  exceptionnel de Marie Lise Labonté\nLa diff
 érence entre se soigner et se guérir\"\nMarie Lise Labonté (psycho
 thérapeute de renommée internationale et auteur de nombreux livres),
 \naccompagnée au piano par Isabelle Boillet (pianiste)\nTarif 13e\n\n
 Pour plus d'information, aller sur https://epanews.fr/events/conf-renc
 e-marie-lise-labont
DTSTART;TZID=Europe/Paris:20130612T203000
DTEND;TZID=Europe/Paris:20130612T223000
CATEGORIES:83
LOCATION:La Londe Les Maures
WEBSITE:http://lalondelesmaures.com
URL:http://lalondelesmaures.com
CONTACT:06.21.80.14.16
ORGANIZER:ART'peggione
ATTACH;FMTTYPE="image/jpeg":http://storage.ning.com/topology/rest/1.0/
 file/get/1662827304?profile=original
ATTENDEE;ROLE=REQ-PARTICIPANT;PARTSTAT=ACCEPTED;RSVP=TRUE;CN=talonbrul
 é:https://epanews.fr/profile/talonbrule
ATTENDEE;ROLE=REQ-PARTICIPANT;PARTSTAT=ACCEPTED;RSVP=TRUE;CN="Sylvie L
 efaucheux":https://epanews.fr/profile/MLCcMarieLiseLabonte
END:VEVENT
END:VCALENDAR
