BEGIN:VCALENDAR
PRODID:NingEventWidget-v1
VERSION:2.0
METHOD:PUBLISH
BEGIN:VTIMEZONE
TZID:Europe/Paris
X-LIC-LOCATION:Europe/Paris
BEGIN:DAYLIGHT
TZOFFSETFROM:+0100
TZOFFSETTO:+0200
TZNAME:CEST
DTSTART:19700329T020000
RRULE:FREQ=YEARLY;BYMONTH=3;BYDAY=-1SU
END:DAYLIGHT
BEGIN:STANDARD
TZOFFSETFROM:+0200
TZOFFSETTO:+0100
TZNAME:CET
DTSTART:19701025T030000
RRULE:FREQ=YEARLY;BYMONTH=10;BYDAY=-1SU
END:STANDARD
END:VTIMEZONE
BEGIN:VEVENT
UID:2485226:Event:828082
DTSTAMP:20260421T040345Z
SUMMARY:ConfÃ©rence: \"MÃ©ditation et silence intÃ©rieur\" avec Mytri 
 Ritodgata Mahasthita
DESCRIPTION:Mytri Ritodgata Mahasthita est nÃ© au Kerala en inde du Su
 d. AprÃ¨s de brillantes Ã©tudes supÃ©rieures, il choisit la vie monast
 ique, pratique le yoga et la mÃ©ditqtion aiprÃ¨s d'un MaÃ®tre pendant 
 une trentaine d'annÃ©es Riche de cette expÃ©rience et d'une grande con
 naissance des textes sacrÃ©s indiens, il enseigne en Inde et en Europe
  depuis de nombreuses annÃ©es. Il a fondÃ© son ashram au Kerala, Shant
 i Dham (la Demeure de la Paix)  vendredi 15/06- 20h ConfÃ©rence: \"MÃ©
 ditation et silence intÃ©rieur\"  Tarifs 15â‚¬ (12â‚¬ membres) samedi 
 16/06 SÃ©minaire \"Pratique de la mÃ©ditation VÃ©dantique\" 60â‚¬ (50â
 ‚¬ membres)\n\nPour plus d'information, aller sur https://epanews.fr/e
 vents/conf-rence-m-ditation-et-silence-int-rieur-avec-mytri-ritodgata
DTSTART;TZID=Europe/Paris:20120524T180000
DTEND;TZID=Europe/Paris:20120524T190000
CATEGORIES:13
LOCATION:785 chemin de Bibemus 13100 Aix en Provence
WEBSITE:
URL:
CONTACT:
ORGANIZER;CN=LAYAMA:https://epanews.fr/profile/LAYAMA
ATTACH;FMTTYPE="image/jpeg":http://storage.ning.com/topology/rest/1.0/
 file/get/1662612308?profile=original
ATTENDEE;ROLE=REQ-PARTICIPANT;PARTSTAT=ACCEPTED;RSVP=TRUE;CN=LAYAMA:ht
 tps://epanews.fr/profile/LAYAMA
END:VEVENT
END:VCALENDAR
