BEGIN:VCALENDAR
PRODID:NingEventWidget-v1
VERSION:2.0
METHOD:PUBLISH
BEGIN:VTIMEZONE
TZID:Europe/Paris
X-LIC-LOCATION:Europe/Paris
BEGIN:DAYLIGHT
TZOFFSETFROM:+0100
TZOFFSETTO:+0200
TZNAME:CEST
DTSTART:19700329T020000
RRULE:FREQ=YEARLY;BYMONTH=3;BYDAY=-1SU
END:DAYLIGHT
BEGIN:STANDARD
TZOFFSETFROM:+0200
TZOFFSETTO:+0100
TZNAME:CET
DTSTART:19701025T030000
RRULE:FREQ=YEARLY;BYMONTH=10;BYDAY=-1SU
END:STANDARD
END:VTIMEZONE
BEGIN:VEVENT
UID:2485226:Event:1401285
DTSTAMP:20260422T010806Z
SUMMARY:ConfÃ©rence mÃ©dicale sur la guÃ©rison par voie spirituelle
DESCRIPTION:\nSÃ©rie de confÃ©rences:Â \nLa guÃ©rison par voie spiritu
 elle â€“ mÃ©dicalement prouvableÂ \nREIMS â€“ SAINT GERMAIN EN LAYE â€
 “ JOINVILLE LE PONTÂ \nORLEANS â€“ BOURGES â€“ SAINT ETIENNE - LYONÂ \
 nDans le cadre dâ€™une sÃ©rie de confÃ©rences internationales donnÃ©es
  dans plus de 70 pays, des mÃ©decins et autres professionnels de la sa
 ntÃ© du Groupe mÃ©dico-scientifique spÃ©cialisÃ© (Groupe MWF) du Cercl
 e des Amis de Bruno GrÃ¶ning informent sur la possibilitÃ© dâ€™aide et
  de guÃ©rison par voie spirituelle selon lâ€™enseignement de Bruno GrÃ
 ¶ning (1906-1959).Â \n\nDans les annÃ©es 50, des milliers de personnes
  cherchÃ¨rent aide et guÃ©rison auprÃ¨s de cet homme qui disait : Â« I
 l nâ€™y a rien dâ€™incurable â€“ Dieu est le plus grand mÃ©decin Â». E
 t lâ€™inconcevable se rÃ©alisa : d'innombrables guÃ©risons eurent lieu
 , mÃªme de maladies organiques graves â€¦Â \nAujourdâ€™hui, plus de 6.
 000 mÃ©decins et autres professionnels de la santÃ© venant de 70 pays 
 se sont regroupÃ©s dans le Groupe MWF afin de vÃ©rifier de faÃ§on obje
 ctive les nombreuses guÃ©risons qui surviennent dans le monde entier p
 ar cet enseignement simple et gratuit.Â \n\n\n\n\n\n\n\n\n\n\nÂ Pendan
 t la confÃ©rence, un mÃ©decin parlera de son expÃ©rience, des rapports
  de guÃ©risons seront prÃ©sentÃ©s, documents mÃ©dicaux Ã  lâ€™appui, d
 es personnes guÃ©ries relateront comment elles ont Ã©tÃ© dÃ©livrÃ©es d
 e maladies psychiques et physiques, parfois mÃªme dÃ©clarÃ©es incurabl
 es. Les auditeurs auront la possibilitÃ© de ressentir en eux-mÃªmes la
  force curative de faÃ§on simple et naturelle.Â \n\n\n\n\nLâ€™entrÃ©e 
 est libre, tout don est le bienvenu.\nContact: 02 40 65 08 96 - courri
 el: france@bruno-groening.org\n\nPour plus d'information, aller sur ht
 tps://epanews.fr/events/conf-rence-m-dicale-sur-la-gu-rison-par-voie-s
 pirituelle-4
DTSTART;TZID=Europe/Paris:20130627T193000
DTEND;TZID=Europe/Paris:20130627T220000
CATEGORIES:42
LOCATION:HÃ´tel Ibis, La Terrasse
WEBSITE:http://www.bruno-groening.org/francais
URL:http://www.bruno-groening.org/francais
CONTACT:02 40 65 08 96
ORGANIZER;CN=Partage:https://epanews.fr/profile/Partage
ATTACH;FMTTYPE="image/jpeg":http://storage.ning.com/topology/rest/1.0/
 file/get/1662859808?profile=original
ATTENDEE;ROLE=REQ-PARTICIPANT;PARTSTAT=ACCEPTED;RSVP=TRUE;CN=Partage:h
 ttps://epanews.fr/profile/Partage
END:VEVENT
END:VCALENDAR
