BEGIN:VCALENDAR
PRODID:NingEventWidget-v1
VERSION:2.0
METHOD:PUBLISH
BEGIN:VTIMEZONE
TZID:Europe/Paris
X-LIC-LOCATION:Europe/Paris
BEGIN:DAYLIGHT
TZOFFSETFROM:+0100
TZOFFSETTO:+0200
TZNAME:CEST
DTSTART:19700329T020000
RRULE:FREQ=YEARLY;BYMONTH=3;BYDAY=-1SU
END:DAYLIGHT
BEGIN:STANDARD
TZOFFSETFROM:+0200
TZOFFSETTO:+0100
TZNAME:CET
DTSTART:19701025T030000
RRULE:FREQ=YEARLY;BYMONTH=10;BYDAY=-1SU
END:STANDARD
END:VTIMEZONE
BEGIN:VEVENT
UID:2485226:Event:863119
DTSTAMP:20260422T233748Z
SUMMARY:conférence ludique sur les fleurs de Bach et les émotions
DESCRIPTION:Cette conférence est ouverte à tous, ainsi qu'aux enfant
 s à partir de 6 ans, elle va vous permettre de prendre conscience des
  émotions qui vous gouvernent et de jouer avec plutôt que de  les s
 ubir.\nElle va aussi vous faire découvrir la méthode du Dr Bach ou d
 e vous perfectionner dans ce domaine et vous aider à l'autonomie de 
 votre santé.\nAu plaisir de vous rencontrer là ou ailleurs!\nMerci d
 e réserver vos places au  06 76 62 76 74\nRoselyne\n\nPour plus d'in
 formation, aller sur https://epanews.fr/events/conf-rence-ludique-sur-
 les-fleurs-de-bach-et-les-motions
DTSTART;TZID=Europe/Paris:20120626T200000
DTEND;TZID=Europe/Paris:20120626T220000
CATEGORIES:44
LOCATION:Pornic
WEBSITE:http://www.emotica.fr
URL:http://www.emotica.fr
CONTACT:0676627674
ORGANIZER:Roselyne et Audrey
ATTACH;FMTTYPE="image/jpeg":
ATTENDEE;ROLE=REQ-PARTICIPANT;PARTSTAT=ACCEPTED;RSVP=TRUE;CN=Roselyne:
 https://epanews.fr/profile/Roselyne700
ATTENDEE;ROLE=REQ-PARTICIPANT;PARTSTAT=TENTATIVE;RSVP=TRUE;CN=NADIA:ht
 tps://epanews.fr/profile/milord
END:VEVENT
END:VCALENDAR
