BEGIN:VCALENDAR
PRODID:NingEventWidget-v1
VERSION:2.0
METHOD:PUBLISH
BEGIN:VTIMEZONE
TZID:Europe/Paris
X-LIC-LOCATION:Europe/Paris
BEGIN:DAYLIGHT
TZOFFSETFROM:+0100
TZOFFSETTO:+0200
TZNAME:CEST
DTSTART:19700329T020000
RRULE:FREQ=YEARLY;BYMONTH=3;BYDAY=-1SU
END:DAYLIGHT
BEGIN:STANDARD
TZOFFSETFROM:+0200
TZOFFSETTO:+0100
TZNAME:CET
DTSTART:19701025T030000
RRULE:FREQ=YEARLY;BYMONTH=10;BYDAY=-1SU
END:STANDARD
END:VTIMEZONE
BEGIN:VEVENT
UID:2485226:Event:1482414
DTSTAMP:20260423T162143Z
SUMMARY:Conférence Libérez votre potentiel - Lyon
DESCRIPTION:\n\n\nVous arrive t'il...\nde ne pas oser ?\nde vous poser
  toute une série de question ?\nd'avoir peur du regard des autres ?\n
 \nVous aimeriez...\nPasser à l'action facilement !\nAvoir confiance e
 n vous !\nOser tout simplement !\n Comment serait votre vie si vous é
 tiez sur de ne pas pouvoir échouer ?\nA quel pourcentage vous exploit
 eriez votre potentiel ?\n  \nAu programme\n\nComment oser passer à 
 l'action ?\nComment gérer et évacuer le stress\nComment reprendre le
  pouvoir sur sa vie\nVous découvrirez ce qui déclenche la motivation
 \n\nQui est-il ?\nDavid Laroche est un réalisateur, consultant et con
 férencier sur les thèmes de la confiance en soi et l'atteinte d'obje
 ctif. Il est connu pour ses nombreux défis et ils aident des milliers
  de personnes à réaliser ce qu'ils pensaient eux-même impossible.\n
 Il a interviewé les plus grands entrepreneurs, conférenciers et athl
 ètes olympiques en France et dans le monde.\nIl voyage autour du mond
 e pour aider les personnes à libérer leur potentiel en partageant so
 n histoire d'un enfant mal dans sa peau, qui était timide et malade e
 t qui maintenant inspire par ses conférences, ses séminaires et ses 
 vidéos.\nSon crédo : \"Croyez en vous même, c'est possible pour vou
 s et ça commence maintenant.\"\n \n\n\nPour plus d'information, alle
 r sur https://epanews.fr/events/conf-rence-lib-rez-votre-potentiel-lyo
 n
DTSTART;TZID=Europe/Paris:20130903T200000
DTEND;TZID=Europe/Paris:20130903T220000
CATEGORIES:69
LOCATION:Hotel Best Western Charlemagne
WEBSITE:http://lyonconfianceensoi-annonce.eventbrite.fr
URL:http://lyonconfianceensoi-annonce.eventbrite.fr
CONTACT:0695281042
ORGANIZER;CN="David Laroche":https://epanews.fr/profile/DavidLaroche
ATTACH;FMTTYPE="image/jpeg":http://storage.ning.com/topology/rest/1.0/
 file/get/1662901135?profile=original
ATTENDEE;ROLE=REQ-PARTICIPANT;PARTSTAT=ACCEPTED;RSVP=TRUE;CN="David La
 roche":https://epanews.fr/profile/DavidLaroche
END:VEVENT
END:VCALENDAR
