BEGIN:VCALENDAR
PRODID:NingEventWidget-v1
VERSION:2.0
METHOD:PUBLISH
BEGIN:VTIMEZONE
TZID:Europe/Paris
X-LIC-LOCATION:Europe/Paris
BEGIN:DAYLIGHT
TZOFFSETFROM:+0100
TZOFFSETTO:+0200
TZNAME:CEST
DTSTART:19700329T020000
RRULE:FREQ=YEARLY;BYMONTH=3;BYDAY=-1SU
END:DAYLIGHT
BEGIN:STANDARD
TZOFFSETFROM:+0200
TZOFFSETTO:+0100
TZNAME:CET
DTSTART:19701025T030000
RRULE:FREQ=YEARLY;BYMONTH=10;BYDAY=-1SU
END:STANDARD
END:VTIMEZONE
BEGIN:VEVENT
UID:2485226:Event:3050985
DTSTAMP:20260421T220007Z
SUMMARY:Conférence \"Libérer son intuition grâce au Tarot\"
DESCRIPTION:Programme :\n- les mystères du tarot\n- présentation des
  arcanes majeurs\n- l'art d'utiliser l'intuition en Tarot\n- tirages u
 tiles au cheminement intérieur \n\nPour plus d'information, aller su
 r https://epanews.fr/events/conf-rence-lib-rer-son-intuition-gr-ce-au-
 tarot
DTSTART;TZID=Europe/Paris:20200110T183000
DTEND;TZID=Europe/Paris:20200110T200000
CATEGORIES:83
LOCATION:Fréjus
WEBSITE:
URL:
CONTACT:0681230002
ORGANIZER:Les Jardins de Centaury
ATTACH;FMTTYPE="image/jpeg":
ATTENDEE;ROLE=REQ-PARTICIPANT;PARTSTAT=ACCEPTED;RSVP=TRUE;CN="Philippe
  MAS":https://epanews.fr/profile/PhilippeMAS
END:VEVENT
END:VCALENDAR
