BEGIN:VCALENDAR
PRODID:NingEventWidget-v1
VERSION:2.0
METHOD:PUBLISH
BEGIN:VTIMEZONE
TZID:Europe/Paris
X-LIC-LOCATION:Europe/Paris
BEGIN:DAYLIGHT
TZOFFSETFROM:+0100
TZOFFSETTO:+0200
TZNAME:CEST
DTSTART:19700329T020000
RRULE:FREQ=YEARLY;BYMONTH=3;BYDAY=-1SU
END:DAYLIGHT
BEGIN:STANDARD
TZOFFSETFROM:+0200
TZOFFSETTO:+0100
TZNAME:CET
DTSTART:19701025T030000
RRULE:FREQ=YEARLY;BYMONTH=10;BYDAY=-1SU
END:STANDARD
END:VTIMEZONE
BEGIN:VEVENT
UID:2485226:Event:2687356
DTSTAMP:20260423T001256Z
SUMMARY:Conférence \" Les trois miroirs de la connaissance de soi \"
DESCRIPTION:Aujourd’ hui, nous voyons fleurir de multiples méthodes
  pour se connaître soi-même. Pourquoi ? Parce que notre époque est 
 celle de l’effondrement de tous les modèles et valeurs extérieurs 
 : l’être humain est désormais responsable de sa propre quête, et 
 donc de l’état de sa conscience.Or la conscience est la clé de tou
 t processus spirituel, et son état est intimement lié à la connaiss
 ance de soi.A la façon dont un miroir renvoie à l’enfant son image
  et lui permet de prendre conscience de lui-même, trois miroirs sont 
 nécessaires à l’homme pour qu’il reconnaisse la dimension spirit
 uelle de son être et afin que sa conscience prenne racine dans la pai
 x profonde, infinie, à la source de la création.Entrée libre et gra
 tuite\n\nPour plus d'information, aller sur https://epanews.fr/events/
 conf-rence-les-trois-miroirs-de-la-connaissance-de-soi-1
DTSTART;TZID=Europe/Paris:20160921T193000
DTEND;TZID=Europe/Paris:20160921T210000
CATEGORIES:75
LOCATION:Hôtel Le Clos Notre Dame
WEBSITE:http://paris.rose-croix-d-or.org
URL:http://paris.rose-croix-d-or.org
CONTACT:0661320412
ORGANIZER;CN=sylvanus:https://epanews.fr/profile/sylvanus
ATTACH;FMTTYPE="image/jpeg":http://storage.ning.com/topology/rest/1.0/
 file/get/1663592950?profile=original
ATTENDEE;ROLE=REQ-PARTICIPANT;PARTSTAT=ACCEPTED;RSVP=TRUE;CN=sylvanus:
 https://epanews.fr/profile/sylvanus
END:VEVENT
END:VCALENDAR
