BEGIN:VCALENDAR
PRODID:NingEventWidget-v1
VERSION:2.0
METHOD:PUBLISH
BEGIN:VTIMEZONE
TZID:Europe/Paris
X-LIC-LOCATION:Europe/Paris
BEGIN:DAYLIGHT
TZOFFSETFROM:+0100
TZOFFSETTO:+0200
TZNAME:CEST
DTSTART:19700329T020000
RRULE:FREQ=YEARLY;BYMONTH=3;BYDAY=-1SU
END:DAYLIGHT
BEGIN:STANDARD
TZOFFSETFROM:+0200
TZOFFSETTO:+0100
TZNAME:CET
DTSTART:19701025T030000
RRULE:FREQ=YEARLY;BYMONTH=10;BYDAY=-1SU
END:STANDARD
END:VTIMEZONE
BEGIN:VEVENT
UID:2485226:Event:993720
DTSTAMP:20260423T190126Z
SUMMARY:ConfÃ©rence \"Les Huiles Essentielles FÃ©minines\" par Jutta L
 enze, le 23 novembre 2012
DESCRIPTION:ConfÃ©rence â€“ prÃ©sentation de Jutta LENZE, heilpratiker
  et aromathÃ©rapeute Ã  Grenoble, suite Ã  la parution de son second l
 ivre : \"Les Huiles Essentielles FÃ©minines\".\n\n(â€¦) Aujourdâ€™hui 
 beaucoup de femmes ont perdu, pour diverses raisons, le contact avec l
 eur fÃ©minitÃ©. Elles en souffrent, souvent mÃªme sans en avoir consci
 ence. Câ€™est leur corps et leur psychÃ© qui sâ€™expriment en lanÃ§ant
  un appel au secours qui se manifeste par des malaises physiques, psyc
 hiques ou des maladies plus ou moins graves. Les huiles essentielles q
 ue vous trouverez dans cet ouvrage reflÃ¨tent dans leur quintessence l
 es multiples facettes qui habitent le coeur, le corps et lâ€™esprit dâ
 €™une femme. Câ€™est par des mÃ©ditations olfactives que lâ€™auteur vo
 us propose dâ€™entrer en contact avec lâ€™essence intime de chaque hui
 le essentielle et le message quâ€™elle nous dÃ©livre.*\nParticipation 
 aux Frais : 8 euros\n\nPour plus d'information, aller sur https://epan
 ews.fr/events/conf-rence-les-huiles-essentielles-f-minines-par-jutta-l
 enze-le
DTSTART;TZID=Europe/Paris:20121123T190000
DTEND;TZID=Europe/Paris:20121123T210000
CATEGORIES:69
LOCATION:Librairie Cadence (tel 04.78.42.48.21)
WEBSITE:http://www.eklectic-librairie.com
URL:http://www.eklectic-librairie.com
CONTACT:04.78.42.48.21
ORGANIZER;CN="Librairie Cadence, Lyon":https://epanews.fr/profile/Libr
 airieCadenceLyon
ATTACH;FMTTYPE="image/jpeg":http://storage.ning.com/topology/rest/1.0/
 file/get/1662688552?profile=original
ATTENDEE;ROLE=REQ-PARTICIPANT;PARTSTAT=ACCEPTED;RSVP=TRUE;CN="Librairi
 e Cadence, Lyon":https://epanews.fr/profile/LibrairieCadenceLyon
END:VEVENT
END:VCALENDAR
