BEGIN:VCALENDAR
PRODID:NingEventWidget-v1
VERSION:2.0
METHOD:PUBLISH
BEGIN:VTIMEZONE
TZID:Europe/Paris
X-LIC-LOCATION:Europe/Paris
BEGIN:DAYLIGHT
TZOFFSETFROM:+0100
TZOFFSETTO:+0200
TZNAME:CEST
DTSTART:19700329T020000
RRULE:FREQ=YEARLY;BYMONTH=3;BYDAY=-1SU
END:DAYLIGHT
BEGIN:STANDARD
TZOFFSETFROM:+0200
TZOFFSETTO:+0100
TZNAME:CET
DTSTART:19701025T030000
RRULE:FREQ=YEARLY;BYMONTH=10;BYDAY=-1SU
END:STANDARD
END:VTIMEZONE
BEGIN:VEVENT
UID:2485226:Event:2134685
DTSTAMP:20260423T175423Z
SUMMARY:conférence Les cristaux et l’éveil de la matière
DESCRIPTION:Les cristaux et l’éveil de la matière Les différentes
  possibilités de travail, de méditation, de guérisons avec les cris
 taux. L’influence de leur forme, couleur, nature. Les techniques usu
 elles et innovantes, leurs avantages et inconvénients. … le samedi 
 27 juin 2015 15h Salle iris Une réservation par mail ou SMS est souha
 itée à fin de garantir votre participation au Forum 104, 104 rue de 
 Vaugirard 75006 paf : 8 €\n\nPour plus d'information, aller sur http
 s://epanews.fr/events/conf-rence-les-cristaux-et-l-veil-de-la-mati-re
DTSTART;TZID=Europe/Paris:20150627T150000
DTEND;TZID=Europe/Paris:20150627T170000
CATEGORIES:75
LOCATION:FORUM 104
WEBSITE:http://cdacier.free.fr
URL:http://cdacier.free.fr
CONTACT:0612199141
ORGANIZER;CN="Christophe Dacier":https://epanews.fr/profile/Christophe
 Dacier
ATTACH;FMTTYPE="image/jpeg":http://storage.ning.com/topology/rest/1.0/
 file/get/1663263916?profile=original
ATTENDEE;ROLE=REQ-PARTICIPANT;PARTSTAT=ACCEPTED;RSVP=TRUE;CN="Christop
 he Dacier":https://epanews.fr/profile/ChristopheDacier
END:VEVENT
END:VCALENDAR
