BEGIN:VCALENDAR
PRODID:NingEventWidget-v1
VERSION:2.0
METHOD:PUBLISH
BEGIN:VTIMEZONE
TZID:Europe/Paris
X-LIC-LOCATION:Europe/Paris
BEGIN:DAYLIGHT
TZOFFSETFROM:+0100
TZOFFSETTO:+0200
TZNAME:CEST
DTSTART:19700329T020000
RRULE:FREQ=YEARLY;BYMONTH=3;BYDAY=-1SU
END:DAYLIGHT
BEGIN:STANDARD
TZOFFSETFROM:+0200
TZOFFSETTO:+0100
TZNAME:CET
DTSTART:19701025T030000
RRULE:FREQ=YEARLY;BYMONTH=10;BYDAY=-1SU
END:STANDARD
END:VTIMEZONE
BEGIN:VEVENT
UID:2485226:Event:2650223
DTSTAMP:20260421T105551Z
SUMMARY:Conférence: \"Le voyage initiatique; comment le mythe se reli
 e à notre vie ?\"
DESCRIPTION:Le voyage, même dans son acception la plus ordinaire, nou
 s introduit dans une forme de changement et de bouleversement.Il nous 
 conduit vers des horizons inconnus et nous donne accès à une forme d
 e renouvellement.L’être humain a toujours aspiré à découvrir ces
  lointains horizons, à sortir du connu, à s’en libérer.Après un 
 cheminement plus ou moins long, l’expérience peut nous mener à la 
 prise de conscience que ce voyage vers l’inconnu, s’il veut être 
 libérateur, demande à être appréhendé et découvert intérieureme
 nt.De nombreux récits initiatiques témoignent du cheminement de la c
 onscience vers le mystère de son origine et de sa destinée. Un voyag
 e initiatique qui révèle la grandeur de la nature humaine et sa voca
 tion.Ce moment de rencontre, centré autour de l’évocation du voyag
 e initiatique nous permettra d’échanger autour de ce désir irrépr
 essible de l’âme et de la conscience de découvrir leur vraie natur
 e.Entrée Libre et gratuite\n\nPour plus d'information, aller sur http
 s://epanews.fr/events/conf-rence-le-voyage-initiatique-comment-le-myth
 e-se-relie-notre
DTSTART;TZID=Europe/Paris:20160601T193000
DTEND;TZID=Europe/Paris:20160601T211500
CATEGORIES:75
LOCATION:Hôtel Le Clos Notre Dame
WEBSITE:http://paris.rose-croix-d-or.org
URL:http://paris.rose-croix-d-or.org
CONTACT:0661320412
ORGANIZER;CN=sylvanus:https://epanews.fr/profile/sylvanus
ATTACH;FMTTYPE="image/jpeg":http://storage.ning.com/topology/rest/1.0/
 file/get/1663569844?profile=original
ATTENDEE;ROLE=REQ-PARTICIPANT;PARTSTAT=ACCEPTED;RSVP=TRUE;CN=sylvanus:
 https://epanews.fr/profile/sylvanus
END:VEVENT
END:VCALENDAR
