BEGIN:VCALENDAR
PRODID:NingEventWidget-v1
VERSION:2.0
METHOD:PUBLISH
BEGIN:VTIMEZONE
TZID:Europe/Paris
X-LIC-LOCATION:Europe/Paris
BEGIN:DAYLIGHT
TZOFFSETFROM:+0100
TZOFFSETTO:+0200
TZNAME:CEST
DTSTART:19700329T020000
RRULE:FREQ=YEARLY;BYMONTH=3;BYDAY=-1SU
END:DAYLIGHT
BEGIN:STANDARD
TZOFFSETFROM:+0200
TZOFFSETTO:+0100
TZNAME:CET
DTSTART:19701025T030000
RRULE:FREQ=YEARLY;BYMONTH=10;BYDAY=-1SU
END:STANDARD
END:VTIMEZONE
BEGIN:VEVENT
UID:2485226:Event:2945835
DTSTAMP:20260421T160427Z
SUMMARY:Conférence \"le féminin et le masculin sacrés\" par Auréli
 en Duarte
DESCRIPTION:ONE HUMAN SHOW  \" Le Féminin et le Masculin sacrés \" 
  Bon jour les âmes!\nComment ca va?\nTu en as assez de te juger car l
 e juge-ment?\nTu souhaites ressentir l'amour avec toi m'aime et avec l
 es autres?\nTu souhaites sortir de cette crainte de l 'autre sexe dûe
  à des souvenirs douloureux?\nTu as le désir profond de cesser ces c
 omportements d attachement et de dépendance affective?\nTu veux parta
 ger le cadeau que tu es dans une relation épanouissante qui te corres
 pond?\nTu apprécies la sincérité et l honnêteté sans filtre?\nTu 
 as le désir de vivre l amour inconditionnel?\nTu souhaites faire le d
 euil d'une ancienne relation qui te freine pour mieux t'ouvrir à la r
 elation idéale pour toi?\nTu aimes partager des bons moments de vie a
 vec des personnes motivées, intéressantes et inspirantes?\nTu choisi
 s d'apprendre dans la joie et l'humour plus que dans la force? \nSi tu
  as répondu oui à une de ces interjections, tu es la, le bienvenu(e)
  samedi \nbilleterie: https://www.weezevent.com/le-feminin-et-le-mascu
 lin-sacres\nAu plaisir de te rencontrer\nDe coeur à coeur\nAurélien\
 n\nPour plus d'information, aller sur https://epanews.fr/events/conf-r
 ence-le-f-minin-et-le-masculin-sacr-s-par-aur-lien-duarte
DTSTART;TZID=Europe/Paris:20180331T190000
DTEND;TZID=Europe/Paris:20180331T230000
CATEGORIES:75
LOCATION:Loft Paris 20
WEBSITE:https://www.google.fr/maps/place/Loft+Pelleport/@48.8668053,2.
 4029912,15z/data=!4m5!3m4!1s0x0:0xcd293c5f83ee40d9!8m2!3d48.8668053!4d
 2.4029912
URL:https://www.google.fr/maps/place/Loft+Pelleport/@48.8668053,2.4029
 912,15z/data=!4m5!3m4!1s0x0:0xcd293c5f83ee40d9!8m2!3d48.8668053!4d2.40
 29912
CONTACT:0611159370
ORGANIZER:Un temps pour toi
ATTACH;FMTTYPE="image/jpeg":http://storage.ning.com/topology/rest/1.0/
 file/get/1663732483?profile=original
ATTENDEE;ROLE=REQ-PARTICIPANT;PARTSTAT=ACCEPTED;RSVP=TRUE;CN=Nesss:htt
 ps://epanews.fr/profile/Nesss
END:VEVENT
END:VCALENDAR
