BEGIN:VCALENDAR
PRODID:NingEventWidget-v1
VERSION:2.0
METHOD:PUBLISH
BEGIN:VTIMEZONE
TZID:Europe/Paris
X-LIC-LOCATION:Europe/Paris
BEGIN:DAYLIGHT
TZOFFSETFROM:+0100
TZOFFSETTO:+0200
TZNAME:CEST
DTSTART:19700329T020000
RRULE:FREQ=YEARLY;BYMONTH=3;BYDAY=-1SU
END:DAYLIGHT
BEGIN:STANDARD
TZOFFSETFROM:+0200
TZOFFSETTO:+0100
TZNAME:CET
DTSTART:19701025T030000
RRULE:FREQ=YEARLY;BYMONTH=10;BYDAY=-1SU
END:STANDARD
END:VTIMEZONE
BEGIN:VEVENT
UID:2485226:Event:2863800
DTSTAMP:20260420T170903Z
SUMMARY:conférence le Détachement de traumatismes
DESCRIPTION:Conférence gratuite Le détachement de traumatismes par J
 acqueline Dubost, Neurothérapeute -\nSamedi 30 septembre 2017 à 15h0
 0\nQu'est-ce que le détachement de traumatismes?  Martine Clavelli cr
 ée en 2003 le détachement de traumatismes.\nCette technique issue de
  la PNL, de l'EMDR, de l'hypnose Ericksonienne est une technique puiss
 ante, rapide et efficace qui déprogramme définitivement les émotion
 s négatives présentes ici et maintenant et suscitées par des situat
 ions, des évènements vécus par le passé ou anticipés dans le futu
 r.\nDeuils insurmontables  Tristesse - Colères  Peurs - Phobies - Toc
 s  Manque de confiance en soi  Echecs - Répétitions  Dépressions - 
 angoisses  Troubles du sommeil  Addictions  et bien d'autres choses en
 core\nTous ces maux qui font des ravages dans notre vie\nInterprétati
 on gratuite des tests lors de la conférence\nCONFERENCE GRATUITE\nRé
 servation Nadège 06.23.01.35.96 ou larcencieldupartage@gmail.com\nLie
 u : L'arc en ciel du partage 1 rue garancière 11100 narbonne\nwww.lar
 cencieldupartage.org\n\nPour plus d'information, aller sur https://epa
 news.fr/events/conf-rence-le-d-tachement-de-traumatismes-2
DTSTART;TZID=Europe/Paris:20170930T150000
DTEND;TZID=Europe/Paris:20170930T170000
CATEGORIES:11
LOCATION:narbonne
WEBSITE:http://www.larcencieldupartage.org
URL:http://www.larcencieldupartage.org
CONTACT:0623013596
ORGANIZER;CN="L'arc en ciel du partage":https://epanews.fr/profile/Lar
 cencieldupartage
ATTACH;FMTTYPE="image/jpeg":http://storage.ning.com/topology/rest/1.0/
 file/get/1663685621?profile=original
ATTENDEE;ROLE=REQ-PARTICIPANT;PARTSTAT=ACCEPTED;RSVP=TRUE;CN="L'arc en
  ciel du partage":https://epanews.fr/profile/Larcencieldupartage
END:VEVENT
END:VCALENDAR
