BEGIN:VCALENDAR
PRODID:NingEventWidget-v1
VERSION:2.0
METHOD:PUBLISH
BEGIN:VTIMEZONE
TZID:Europe/Paris
X-LIC-LOCATION:Europe/Paris
BEGIN:DAYLIGHT
TZOFFSETFROM:+0100
TZOFFSETTO:+0200
TZNAME:CEST
DTSTART:19700329T020000
RRULE:FREQ=YEARLY;BYMONTH=3;BYDAY=-1SU
END:DAYLIGHT
BEGIN:STANDARD
TZOFFSETFROM:+0200
TZOFFSETTO:+0100
TZNAME:CET
DTSTART:19701025T030000
RRULE:FREQ=YEARLY;BYMONTH=10;BYDAY=-1SU
END:STANDARD
END:VTIMEZONE
BEGIN:VEVENT
UID:2485226:Event:2566373
DTSTAMP:20260421T105140Z
SUMMARY:Conférence : Le chemin de l’âme, enracinement et incarnati
 on positive
DESCRIPTION:Conférence \nLe chemin de l’âme, enracinement et incar
 nation positive\nLes vieilles âmes (et les jeunes), comment trouver s
 a place sociale, travailler, être autonome, changer le monde et soi 
 même ?\nIncarnation et enracinement de l’âme, réconciliation avec
  la matière et le corps : solutions, chemin spirituel, méditations\
 nLe vendredi 29 – janvier 2016 - 19h30 Salle iris  paf : 10 €\nR
 éservations nécessaires par téléphone ou mail pour les conférence
 s.\nRenseignements et réservations pour des consultations (du vendred
 i au lundi avant et après la conférence) au  06 12 19 91 41 – cda
 cier@free.fr\n\nPour plus d'information, aller sur https://epanews.fr/
 events/conf-rence-le-chemin-de-l-me-enracinement-et-incarnation-positi
 ve
DTSTART;TZID=Europe/Paris:20160122T193000
DTEND;TZID=Europe/Paris:20160122T213000
CATEGORIES:75
LOCATION:forum 104
WEBSITE:
URL:
CONTACT:0612199141
ORGANIZER;CN="Christophe Dacier":https://epanews.fr/profile/Christophe
 Dacier
ATTACH;FMTTYPE="image/jpeg":http://storage.ning.com/topology/rest/1.0/
 file/get/1663519092?profile=original
ATTENDEE;ROLE=REQ-PARTICIPANT;PARTSTAT=ACCEPTED;RSVP=TRUE;CN="Christop
 he Dacier":https://epanews.fr/profile/ChristopheDacier
END:VEVENT
END:VCALENDAR
