BEGIN:VCALENDAR
PRODID:NingEventWidget-v1
VERSION:2.0
METHOD:PUBLISH
BEGIN:VTIMEZONE
TZID:Europe/Paris
X-LIC-LOCATION:Europe/Paris
BEGIN:DAYLIGHT
TZOFFSETFROM:+0100
TZOFFSETTO:+0200
TZNAME:CEST
DTSTART:19700329T020000
RRULE:FREQ=YEARLY;BYMONTH=3;BYDAY=-1SU
END:DAYLIGHT
BEGIN:STANDARD
TZOFFSETFROM:+0200
TZOFFSETTO:+0100
TZNAME:CET
DTSTART:19701025T030000
RRULE:FREQ=YEARLY;BYMONTH=10;BYDAY=-1SU
END:STANDARD
END:VTIMEZONE
BEGIN:VEVENT
UID:2485226:Event:1512707
DTSTAMP:20260421T232558Z
SUMMARY:Conférence : La transmission, une méditation pour le nouvel 
 âge
DESCRIPTION:Nombre de personnes recherchent actuellement une voie de s
 ervice. La méditation de Transmission constitue précisément une for
 me puissante de service, simple et efficace. Elle produit des résulta
 ts remarquables pour la planète, et stimule l’évolution de ceux qu
 i la pratiquent.\n \nLa Transmission est une méditation de groupe : 
 ce dernier agit comme un « transformateur », adaptant l’intensité
  des énergies spirituelles afin de les rendre utilisables par l’hum
 anité.\n \nCette activité est non conventionnelle, entièrement com
 patible avec toute autre pratique religieuse ou spirituelle. Plusieurs
  centaines de groupes travaillent déjà de cette manière à travers 
 le monde.\n \nMardi 17 septembre 2013, de 14h à 17h\nInfo pratique 
 :\nR’de Thé - CIMO\nMétro Saint-Ambroise ou Voltaire. Bus 46\nPart
 icipation aux frais : 6 €\n\nPour plus d'information, aller sur http
 s://epanews.fr/events/conf-rence-la-transmission-une-m-ditation-pour-l
 e-nouvel-ge
DTSTART;TZID=Europe/Paris:20130917T140000
DTEND;TZID=Europe/Paris:20130917T170000
CATEGORIES:75
LOCATION:Paris - Association Macrobiotique
WEBSITE:
URL:
CONTACT:
ORGANIZER;CN="Amis de Partage International":https://epanews.fr/profil
 e/AmisdePartageInternational
ATTACH;FMTTYPE="image/jpeg":
ATTENDEE;ROLE=REQ-PARTICIPANT;PARTSTAT=ACCEPTED;RSVP=TRUE;CN="Amis de 
 Partage International":https://epanews.fr/profile/AmisdePartageInterna
 tional
END:VEVENT
END:VCALENDAR
