BEGIN:VCALENDAR
PRODID:NingEventWidget-v1
VERSION:2.0
METHOD:PUBLISH
BEGIN:VTIMEZONE
TZID:Europe/Paris
X-LIC-LOCATION:Europe/Paris
BEGIN:DAYLIGHT
TZOFFSETFROM:+0100
TZOFFSETTO:+0200
TZNAME:CEST
DTSTART:19700329T020000
RRULE:FREQ=YEARLY;BYMONTH=3;BYDAY=-1SU
END:DAYLIGHT
BEGIN:STANDARD
TZOFFSETFROM:+0200
TZOFFSETTO:+0100
TZNAME:CET
DTSTART:19701025T030000
RRULE:FREQ=YEARLY;BYMONTH=10;BYDAY=-1SU
END:STANDARD
END:VTIMEZONE
BEGIN:VEVENT
UID:2485226:Event:481606
DTSTAMP:20260423T052350Z
SUMMARY:ConfÃ©rence : La thÃ©rapie familiale Biodynamique
DESCRIPTION:Nous nous construisons Ã  travers un monde familial chargÃ
 © de rites plus ou moins explicites, or les non-ditsÂ cachÃ©s sont des
  conditionnements qui nous agissent sans quâ€™on en ait connaissance, 
 ni maÃ®trise. La thÃ©rapie familiale Biodynamique va mettre Ã  jour ce
 s structures sous-tendant nos attitudes et nos traits de caractÃ¨re. E
 lle met en scÃ¨ne la place de chacun et sâ€™appuie sur le ressenti cor
 porel pour dÃ©nouer et dÃ©livrer chacun des rÃ´les assignÃ©s. Le corps
  sensible, vecteur de mÃ©moires collectives,Â moins conditionnÃ© que l
 e mental, montre alors le chemin vers lâ€™Ã©mergence de lâ€™Ãªtre prof
 ond.\nÂ \nPar Christiane LewinÂ \nEntrÃ©e 5 euros\n\nPour plus d'infor
 mation, aller sur https://epanews.fr/events/conf-rence-la-th-rapie-fam
 iliale-biodynamique
DTSTART;TZID=Europe/Paris:20111124T203000
DTEND;TZID=Europe/Paris:20111124T220000
CATEGORIES:31
LOCATION:Toulouse
WEBSITE:
URL:
CONTACT:04 67 22 40 50
ORGANIZER;CN="Ecole Biodynamique":https://epanews.fr/profile/EcoleBiod
 ynamique
ATTACH;FMTTYPE="image/jpeg":http://storage.ning.com/topology/rest/1.0/
 file/get/1662450857?profile=original
ATTENDEE;ROLE=REQ-PARTICIPANT;PARTSTAT=ACCEPTED;RSVP=TRUE;CN="Ecole Bi
 odynamique":https://epanews.fr/profile/EcoleBiodynamique
END:VEVENT
END:VCALENDAR
