BEGIN:VCALENDAR
PRODID:NingEventWidget-v1
VERSION:2.0
METHOD:PUBLISH
BEGIN:VTIMEZONE
TZID:Europe/Paris
X-LIC-LOCATION:Europe/Paris
BEGIN:DAYLIGHT
TZOFFSETFROM:+0100
TZOFFSETTO:+0200
TZNAME:CEST
DTSTART:19700329T020000
RRULE:FREQ=YEARLY;BYMONTH=3;BYDAY=-1SU
END:DAYLIGHT
BEGIN:STANDARD
TZOFFSETFROM:+0200
TZOFFSETTO:+0100
TZNAME:CET
DTSTART:19701025T030000
RRULE:FREQ=YEARLY;BYMONTH=10;BYDAY=-1SU
END:STANDARD
END:VTIMEZONE
BEGIN:VEVENT
UID:2485226:Event:1092840
DTSTAMP:20260421T085353Z
SUMMARY:ConfÃ©rence: \"La sexualitÃ© fÃ©minine\" par Alain HERIL
DESCRIPTION:Alain HÃ©ril est psychanalyste et sexothÃ©rapeute, psychol
 ogue sophro analyste, formateur et directeur d'une Ã©cole de formation
  en sexothÃ©rapie\nLa sexualitÃ© fÃ©minine reste encore un mystÃ¨re po
 ur beaucoup dâ€™hommes...et de nombreuses femmesÂ !La sociÃ©tÃ© occide
 ntale lâ€™a tellement muselÃ©e pendant des siÃ¨cles que le fait de dÃ©
 couvrir que les femmes ont une sexualitÃ© propre Ã  partir des annÃ©es
  soixante a entrainÃ© un vÃ©ritable bouleversement dans la vision de c
 e que peut Ãªtre la jouissance fÃ©minine\nÂ Au cours de cette confÃ©re
 nce, Alain HÃ©ril,abordera les spÃ©cificitÃ©s de la sexualitÃ© fÃ©mini
 ne et proposera une rÃ©flexion autour des changements que cela impliqu
 e dans nos relations hommes/femmes et dans lâ€™organisation sociale en
  gÃ©nÃ©ral. Il prÃ©sentera Ã©galement le rÃ©sultat dâ€™une enquÃªte qu
 â€™il a effectuÃ© auprÃ¨s de plusieurs centaines de femmes sur les Ã¢g
 es sexuels de la femme\nAlain HÃ©ril est lâ€™auteurÂ  dâ€™une trentain
 e dâ€™ouvrages dont Â«Â Pour lâ€™harmonie du coupleÂ Â» Â«Â AimerÂ Â»Â
  Â«Â SexothÃ©rapie, ces confidences qui soignentÂ Â»Â Â«Â Pour allier 
 grossesse dÃ©sir et plaisirÂ Â»Â«Â Femme Ã©panouieÂ Â»â€¦Â  (Rencontre
  dÃ©dicace Ã  partir de 18h00)Â  EntrÃ©e 10â‚¬Â  places limitÃ©es â€“ 
 Inscriptions obligatoires\n\n\nPour plus d'information, aller sur http
 s://epanews.fr/events/conf-rence-la-sexualit-f-minine-par-alain-heril
DTSTART;TZID=Europe/Paris:20130208T190000
DTEND;TZID=Europe/Paris:20130208T203000
CATEGORIES:33, 17, 24, 40, 64
LOCATION:Librairie PÃ©gase
WEBSITE:
URL:
CONTACT:0556513812
ORGANIZER;CN="Librairie PEGASE":https://epanews.fr/profile/LibrairiePE
 GASE
ATTACH;FMTTYPE="image/jpeg":http://storage.ning.com/topology/rest/1.0/
 file/get/1662728867?profile=original
ATTENDEE;ROLE=REQ-PARTICIPANT;PARTSTAT=ACCEPTED;RSVP=TRUE;CN="Librairi
 e PEGASE":https://epanews.fr/profile/LibrairiePEGASE
END:VEVENT
END:VCALENDAR
