BEGIN:VCALENDAR
PRODID:NingEventWidget-v1
VERSION:2.0
METHOD:PUBLISH
BEGIN:VTIMEZONE
TZID:Europe/Paris
X-LIC-LOCATION:Europe/Paris
BEGIN:DAYLIGHT
TZOFFSETFROM:+0100
TZOFFSETTO:+0200
TZNAME:CEST
DTSTART:19700329T020000
RRULE:FREQ=YEARLY;BYMONTH=3;BYDAY=-1SU
END:DAYLIGHT
BEGIN:STANDARD
TZOFFSETFROM:+0200
TZOFFSETTO:+0100
TZNAME:CET
DTSTART:19701025T030000
RRULE:FREQ=YEARLY;BYMONTH=10;BYDAY=-1SU
END:STANDARD
END:VTIMEZONE
BEGIN:VEVENT
UID:2485226:Event:2342002
DTSTAMP:20260422T154011Z
SUMMARY:Conférence sur Un cours en miracles
DESCRIPTION:Présentation de la philosophie spirituelle du livre Un co
 urs en miracles. Durée : 90 minutes.\nPrésentée par Bernard Groom :
  Conférencier/auteur australien anime ces présentations avec clarté
 , énergie et humour. Bernard a le don de pouvoir partager cette philo
 sophie complexe d’une façon simple et accessible, démontrant comme
 nt les plus grands concepts influencent nos vies dans le moindre déta
 il du quotidien. Il étudie Un cours en miracles depuis plus de 20 ans
 .\n\nPour plus d'information, aller sur https://epanews.fr/events/conf
 -rence-la-paix-un-espoir-ancien
DTSTART;TZID=Europe/Paris:20150612T200000
DTEND;TZID=Europe/Paris:20150612T213000
CATEGORIES:44
LOCATION:Clorophylle Beaujoire
WEBSITE:http://uncoursenmiraclesenfrance.com/conferences/#Nantes1
URL:http://uncoursenmiraclesenfrance.com/conferences/#Nantes1
CONTACT:06.77.56.24.63
ORGANIZER;CN="Bernard Groom":https://epanews.fr/profile/BernardG
ATTACH;FMTTYPE="image/jpeg":
ATTENDEE;ROLE=REQ-PARTICIPANT;PARTSTAT=ACCEPTED;RSVP=TRUE;CN="Bernard 
 Groom":https://epanews.fr/profile/BernardG
END:VEVENT
END:VCALENDAR
