BEGIN:VCALENDAR
PRODID:NingEventWidget-v1
VERSION:2.0
METHOD:PUBLISH
BEGIN:VTIMEZONE
TZID:Europe/Paris
X-LIC-LOCATION:Europe/Paris
BEGIN:DAYLIGHT
TZOFFSETFROM:+0100
TZOFFSETTO:+0200
TZNAME:CEST
DTSTART:19700329T020000
RRULE:FREQ=YEARLY;BYMONTH=3;BYDAY=-1SU
END:DAYLIGHT
BEGIN:STANDARD
TZOFFSETFROM:+0200
TZOFFSETTO:+0100
TZNAME:CET
DTSTART:19701025T030000
RRULE:FREQ=YEARLY;BYMONTH=10;BYDAY=-1SU
END:STANDARD
END:VTIMEZONE
BEGIN:VEVENT
UID:2485226:Event:1048547
DTSTAMP:20260421T214532Z
SUMMARY:Conférence - La Méditation de Transmission
DESCRIPTION:Je vous invite à cette conférence gratuite de Bernard Cl
 avière, président de l'association Nature et Partage.\nNous souhaito
 ns rendre service à des personnes mais ce n'est pas toujours facile, 
 alors rendre service à l'humanité toute entière... impensable ?\nBe
 rnard nous parlera d'une solution : la Transmission qui est une médit
 ation de groupe.\nNous aborderons notamment les points suivants :• Q
 u’est-ce qu’un Maître de Sagesse ?• Qu’est ce qui pousse un i
 ndividu à vouloir rendre service ?• Qu’est ce que la méditation?
 • Comment stimule-t-elle l’évolution ?• De quelles « énergies
  » s’agit-il ?• Comment se pratique la « Transmission » ?\nRend
 ez-vous à la MBE au 3 rue Béarn 33700 MERIGNAC - Tél. 05 33 48 39 9
 0 - parking gratuit.\nBernard Clavière est auteur du livre « Et si o
 n s’arrêtait un peu de manger ... de temps en temps » et aussi l'o
 rganisateur de la Croisade pour la santé ( http://www.croisadepourla
 sante.org ) : 14 jours de marche à pied sans manger.\n\nPour plus d'i
 nformation, aller sur https://epanews.fr/events/conf-rence-la-m-ditati
 on-de-transmission
DTSTART;TZID=Europe/Paris:20121205T201500
DTEND;TZID=Europe/Paris:20121205T221500
CATEGORIES:33
LOCATION:Bordeaux
WEBSITE:http://maps.google.com/maps?q=3+Rue+de+B%C3%A9arn,+Merignac,+F
 rance&hl=fr&ie=UTF8&sll=37.0625,-95.677068&sspn=54.22533,135.263672&oq
 =3+rue+b%C3%A9arn,+m%C3%A9&hnear=3+Rue+de+B%C3%A9arn,+33700+Merignac,+
 Gironde,+Aquitaine,+France&t=m&z=16
URL:http://maps.google.com/maps?q=3+Rue+de+B%C3%A9arn,+Merignac,+Franc
 e&hl=fr&ie=UTF8&sll=37.0625,-95.677068&sspn=54.22533,135.263672&oq=3+r
 ue+b%C3%A9arn,+m%C3%A9&hnear=3+Rue+de+B%C3%A9arn,+33700+Merignac,+Giro
 nde,+Aquitaine,+France&t=m&z=16
CONTACT:0533483990
ORGANIZER;CN="Serge Serge":https://epanews.fr/profile/sergeserge
ATTACH;FMTTYPE="image/jpeg":http://storage.ning.com/topology/rest/1.0/
 file/get/1662708884?profile=original
ATTENDEE;ROLE=REQ-PARTICIPANT;PARTSTAT=ACCEPTED;RSVP=TRUE;CN=bahija:ht
 tps://epanews.fr/profile/chatta
ATTENDEE;ROLE=REQ-PARTICIPANT;PARTSTAT=ACCEPTED;RSVP=TRUE;CN="Eclosion
 del'êtrebiodynamique":https://epanews.fr/profile/Eclosiondeletrebiody
 namique
ATTENDEE;ROLE=REQ-PARTICIPANT;PARTSTAT=ACCEPTED;RSVP=TRUE;CN=Masseur33
 :https://epanews.fr/profile/masseur33
ATTENDEE;ROLE=REQ-PARTICIPANT;PARTSTAT=ACCEPTED;RSVP=TRUE;CN="isabelle
  baron":https://epanews.fr/profile/isabellebaron
ATTENDEE;ROLE=REQ-PARTICIPANT;PARTSTAT=ACCEPTED;RSVP=TRUE;CN=Evelyneb3
 3:https://epanews.fr/profile/Evelyneb33
ATTENDEE;ROLE=REQ-PARTICIPANT;PARTSTAT=ACCEPTED;RSVP=TRUE;CN="Serge Se
 rge":https://epanews.fr/profile/sergeserge
END:VEVENT
END:VCALENDAR
