BEGIN:VCALENDAR
PRODID:NingEventWidget-v1
VERSION:2.0
METHOD:PUBLISH
BEGIN:VTIMEZONE
TZID:Europe/Paris
X-LIC-LOCATION:Europe/Paris
BEGIN:DAYLIGHT
TZOFFSETFROM:+0100
TZOFFSETTO:+0200
TZNAME:CEST
DTSTART:19700329T020000
RRULE:FREQ=YEARLY;BYMONTH=3;BYDAY=-1SU
END:DAYLIGHT
BEGIN:STANDARD
TZOFFSETFROM:+0200
TZOFFSETTO:+0100
TZNAME:CET
DTSTART:19701025T030000
RRULE:FREQ=YEARLY;BYMONTH=10;BYDAY=-1SU
END:STANDARD
END:VTIMEZONE
BEGIN:VEVENT
UID:2485226:Event:2895331
DTSTAMP:20260422T112453Z
SUMMARY:Modification demandée
DESCRIPTION:Conférence La kinésiologie par Carole Boyer Mercredi 22 
 Novembre 2017 à 18h30\r\nDu grec kinêsis (mouvement), étymologiquem
 ent \"Kinésiologie\" signifie étude du mouvement.\r\nLa kinésiologi
 e nous invite donc à mieux \"bouger\", dans tous les sens du terme, t
 ant sur le plan physique que psychologique. Cette technique psychocorp
 orelle permet de déceler les blocages, de libérer l'énergie et d'ha
 rmoniser l'individu. Elle utilise comme outil le test musculaire pour 
 dialoguer avec le corps. Basé sur le tonus musculaire, ce test donne 
 accès à nos mémoires cellulaires, à la source de nos maux, pour y 
 mettre des mots. Je vous invite à découvrir la kinésiologie lors de
  cette conférence que j'illustrerai par des exemples pratiques, pour 
 mieux en comprendre l'esprit.\r\nParticipation 7€ non adhérent 5€
  adhérent Places limitées\r\nRéservations Nadège 06.23.01.35.96 la
 rcencieldupartage@gmail.com\r\nLieu : L'arc en ciel du partage 1 rue g
 arancière 11100 Narbonne www.larcencieldupartage.org\n\nPour plus d'i
 nformation, aller sur https://epanews.fr/events/conf-rence-la-kin-siol
 ogie-1
DTSTART;TZID=Europe/Paris:20171122T183000
DTEND;TZID=Europe/Paris:20171122T200000
CATEGORIES:11
LOCATION:narbonne
WEBSITE:http://www.larcencieldupartage.org
URL:http://www.larcencieldupartage.org
CONTACT:0623013596
ORGANIZER;CN="L'arc en ciel du partage":https://epanews.fr/profile/Lar
 cencieldupartage
ATTACH;FMTTYPE="image/jpeg":http://storage.ning.com/topology/rest/1.0/
 file/get/1663700028?profile=original
ATTENDEE;ROLE=REQ-PARTICIPANT;PARTSTAT=ACCEPTED;RSVP=TRUE;CN="L'arc en
  ciel du partage":https://epanews.fr/profile/Larcencieldupartage
END:VEVENT
END:VCALENDAR
