BEGIN:VCALENDAR
PRODID:NingEventWidget-v1
VERSION:2.0
METHOD:PUBLISH
BEGIN:VTIMEZONE
TZID:Europe/Paris
X-LIC-LOCATION:Europe/Paris
BEGIN:DAYLIGHT
TZOFFSETFROM:+0100
TZOFFSETTO:+0200
TZNAME:CEST
DTSTART:19700329T020000
RRULE:FREQ=YEARLY;BYMONTH=3;BYDAY=-1SU
END:DAYLIGHT
BEGIN:STANDARD
TZOFFSETFROM:+0200
TZOFFSETTO:+0100
TZNAME:CET
DTSTART:19701025T030000
RRULE:FREQ=YEARLY;BYMONTH=10;BYDAY=-1SU
END:STANDARD
END:VTIMEZONE
BEGIN:VEVENT
UID:2485226:Event:2885749
DTSTAMP:20260422T013011Z
SUMMARY:confÃ©rence La Guidance Quantique
DESCRIPTION:ConfÃ©rence La Guidance Quantique par MÃ©laine Tara Bonzom
  - Mardi 7 Novembre 2017 Ã  18h30\nLa confÃ©rence proposÃ©e prÃ©senter
 a l'approche Quantique de notre rÃ©alitÃ© amenÃ©e par la Guidance Quan
 tique et Informationnelle.La Guidance Quantique est une voie d'accompa
 gnement de Soi, de dÃ©veloppement de Soi, essentiellement une approche
  tout Ã  fait novatrice de notre rÃ©alitÃ©.Un nouveau paradigme s'ouvr
 e, de conscience des miroirs que nous nous proposons dans notre rÃ©ali
 tÃ©, de l'interaction antre nos vibrations, programmes, nos pensÃ©es, 
 nos croyances et les expÃ©riences que nous nous proposons de vivre dan
 s cette rÃ©alitÃ©. Nos champs d'informations, subtils activent des scÃ
 ©narios. La Guidance Informationnelle et Quantique propose une lecture
  de ces informations afin d'y avoir accÃ¨s et de reprendre notre levie
 r d'action sur ces aspects de Soi.Sortir du rÃ´le de victime, de notre
  hostoire passÃ©, conditions ... sans entrer dans la culpabilitÃ©, rep
 rendre la responsabilitÃ© et les pleins potentiels de maitrise de notr
 e rÃ©alitÃ© et expÃ©rience.RÃ©aligner les mÃ©moires corporelles, cellu
 laires sur la frÃ©quence de notre Etre, de notre Essence.RÃ©-informer 
 les cellules des programmes non essentiels, afin de les aligner sur de
 s choix Essentiels pour entrer dans la Joie de son chemin Unique.RÃ©in
 tÃ©gration de toutes nos parties fÃ©minin-masculin, ombre-lumiÃ¨re ...
  Entrer dans la coexistence pour oeuvrer.\nParticipation :7â‚¬ non adh
 Ã©rent - 5â‚¬ adhÃ©rent - Places limitÃ©es\nRÃ©servations NadÃ¨ge 06.2
 3.01.35.96\nLieu : L'arc en ciel du partage1 rue garanciÃ¨re 11100 Nar
 bonnewww.larcencieldupartage.org\n\nPour plus d'information, aller sur
  https://epanews.fr/events/conf-rence-la-guidance-quantique
DTSTART;TZID=Europe/Paris:20171107T183000
DTEND;TZID=Europe/Paris:20171107T203000
CATEGORIES:11
LOCATION:narbonne
WEBSITE:http://www.larcencieldupartage.org
URL:http://www.larcencieldupartage.org
CONTACT:0623013596
ORGANIZER;CN="L'arc en ciel du partage":https://epanews.fr/profile/Lar
 cencieldupartage
ATTACH;FMTTYPE="image/jpeg":http://storage.ning.com/topology/rest/1.0/
 file/get/1663693594?profile=original
ATTENDEE;ROLE=REQ-PARTICIPANT;PARTSTAT=ACCEPTED;RSVP=TRUE;CN="L'arc en
  ciel du partage":https://epanews.fr/profile/Larcencieldupartage
END:VEVENT
END:VCALENDAR
