BEGIN:VCALENDAR
PRODID:NingEventWidget-v1
VERSION:2.0
METHOD:PUBLISH
BEGIN:VTIMEZONE
TZID:Europe/Paris
X-LIC-LOCATION:Europe/Paris
BEGIN:DAYLIGHT
TZOFFSETFROM:+0100
TZOFFSETTO:+0200
TZNAME:CEST
DTSTART:19700329T020000
RRULE:FREQ=YEARLY;BYMONTH=3;BYDAY=-1SU
END:DAYLIGHT
BEGIN:STANDARD
TZOFFSETFROM:+0200
TZOFFSETTO:+0100
TZNAME:CET
DTSTART:19701025T030000
RRULE:FREQ=YEARLY;BYMONTH=10;BYDAY=-1SU
END:STANDARD
END:VTIMEZONE
BEGIN:VEVENT
UID:2485226:Event:2067077
DTSTAMP:20260425T142110Z
SUMMARY:ConfÃ©rence La Conscience Cosmique
DESCRIPTION:Dimanche 26 octobre Ã  20h00, ConfÃ©rence Â«Â La Conscienc
 e CosmiqueÂ Â»\n(EntrÃ©e et participation libres)\nÂ \nLes confÃ©rence
 s de Carlos Kirael abordent des sujets spirituels et mÃ©taphysiques.\n
 La confÃ©rence dÃ©bute par une mÃ©ditation Ã  19h30, Ã  travers la can
 alisation de lâ€™Ã©nergie crÃ©atrice Carlos Kirael dÃ©veloppera le thÃ
 ¨me de la confÃ©rence.\nFin de la confÃ©rence Ã  21h00.\nÂ \nPouya Cul
 tural Center\n48 Quai de Jemmapes -750010 Paris\n(MÃ©tro RÃ©publique)\
 nÂ \nPour dÃ©couvrir Carlos Kirael, vous pouvez consulter le site http
 ://kirael.es/ et la page facebook https://www.facebook.com/carloskirae
 lconnection\nInformations par mailÂ : kirael.paris@gmail.com ou TelÂ :
  06 70 81 37 60\n\nPour plus d'information, aller sur https://epanews.
 fr/events/conf-rence-la-conscience-cosmique-1
DTSTART;TZID=Europe/Paris:20141026T193000
DTEND;TZID=Europe/Paris:20141026T210000
CATEGORIES:75
LOCATION:Centre Culturel Pouya, Paris 10e (mÃ©tro RÃ©publique)
WEBSITE:http://kirael.es
URL:http://kirael.es
CONTACT:06 70 81 60 37
ORGANIZER;CN=Kirael:https://epanews.fr/profile/Kirael
ATTACH;FMTTYPE="image/jpeg":http://storage.ning.com/topology/rest/1.0/
 file/get/1663219776?profile=original
ATTENDEE;ROLE=REQ-PARTICIPANT;PARTSTAT=ACCEPTED;RSVP=TRUE;CN=Kirael:ht
 tps://epanews.fr/profile/Kirael
END:VEVENT
END:VCALENDAR
