BEGIN:VCALENDAR
PRODID:NingEventWidget-v1
VERSION:2.0
METHOD:PUBLISH
BEGIN:VTIMEZONE
TZID:Europe/Paris
X-LIC-LOCATION:Europe/Paris
BEGIN:DAYLIGHT
TZOFFSETFROM:+0100
TZOFFSETTO:+0200
TZNAME:CEST
DTSTART:19700329T020000
RRULE:FREQ=YEARLY;BYMONTH=3;BYDAY=-1SU
END:DAYLIGHT
BEGIN:STANDARD
TZOFFSETFROM:+0200
TZOFFSETTO:+0100
TZNAME:CET
DTSTART:19701025T030000
RRULE:FREQ=YEARLY;BYMONTH=10;BYDAY=-1SU
END:STANDARD
END:VTIMEZONE
BEGIN:VEVENT
UID:2485226:Event:2379911
DTSTAMP:20260423T123644Z
SUMMARY:Conférence dédicace  \"La Bioénergie, une approche sensitiv
 e et une réalité quantique\"
DESCRIPTION:En partenariat avec l’association Bebooda.org\n\nVendred
 i  16 octobre à 20h30\n\nCONFERENCE DEDICACE\n\n « La BIOENERGIE,
 \n\n     une approche sensitive et une réalité quantique »\nAv
 ec Stéphane CARDINAUX\net Catherine Anae MARTIN\nVous vous êtes touj
 ours demandé à quelle réalité correspondait votre ressenti ? Les 
 vibrations des cristaux et des arbres, les énergies et les mémoires 
 des lieux ou des personnes ne sont pas une illusion, ils sont mesurabl
 es par des appareils tels que la caméra GDV et le Bioscope. Cette con
 férence vous montrera que nos perceptions, physiques ou subtiles, son
 t une réalité.\nStéphane CARDINAUX est diplômé de l’école Poly
 technique de Lausanne. Il est architecte, géobiologue et bioénergét
 icien. Il est l’auteur de plusieurs ouvrages dont\n\nNaturopathe de 
 formation, Catherine Anae MARTIN s’est spécialisée sur le fonction
 nement énergétique humain et ses interactions avec les réalités su
 btiles.\n\nStéphane Cardinaux est l’auteur de plusieurs ouvrages do
 nt « Science et conscience de l’invisible » en partenariat avec 
 Catherine Anae Martin.\n\n\n\nTarif :  10€\n\nSalle Athénée Muni
 cipal Père Joseph Wresinski  -  Place Saint Christoly  -  Bordeau
 x\n\n\n\nPour plus d'information, aller sur https://epanews.fr/events/
 conf-rence-la-bio-nergie-une-approche-sensitive-et-une-r-alit
DTSTART;TZID=Europe/Paris:20151016T203000
DTEND;TZID=Europe/Paris:20151016T223000
CATEGORIES:47, 24, 33, 40, 64
LOCATION:Salle Athénée Municipal Père Joseph Wresinski
WEBSITE:http://www.librairie-pegase.fr
URL:http://www.librairie-pegase.fr
CONTACT:05 56 51 38 12
ORGANIZER;CN="Librairie PEGASE":https://epanews.fr/profile/LibrairiePE
 GASE
ATTACH;FMTTYPE="image/jpeg":http://storage.ning.com/topology/rest/1.0/
 file/get/1663430036?profile=original
ATTENDEE;ROLE=REQ-PARTICIPANT;PARTSTAT=ACCEPTED;RSVP=TRUE;CN="Librairi
 e PEGASE":https://epanews.fr/profile/LibrairiePEGASE
END:VEVENT
END:VCALENDAR
