BEGIN:VCALENDAR
PRODID:NingEventWidget-v1
VERSION:2.0
METHOD:PUBLISH
BEGIN:VTIMEZONE
TZID:Europe/Paris
X-LIC-LOCATION:Europe/Paris
BEGIN:DAYLIGHT
TZOFFSETFROM:+0100
TZOFFSETTO:+0200
TZNAME:CEST
DTSTART:19700329T020000
RRULE:FREQ=YEARLY;BYMONTH=3;BYDAY=-1SU
END:DAYLIGHT
BEGIN:STANDARD
TZOFFSETFROM:+0200
TZOFFSETTO:+0100
TZNAME:CET
DTSTART:19701025T030000
RRULE:FREQ=YEARLY;BYMONTH=10;BYDAY=-1SU
END:STANDARD
END:VTIMEZONE
BEGIN:VEVENT
UID:2485226:Event:2246570
DTSTAMP:20260422T170657Z
SUMMARY:ConfÃ©rence \"l'hypnose spirituelle, une voie vers l'au delÃ \
 "
DESCRIPTION:\nDans cette confÃ©rence jumelant la thÃ©orie Ã  lâ€™expÃ©
 rience, explorez ce qui se produit lorsquâ€™on utilise lâ€™hypnose pou
 r accÃ©der Ã  des mÃ©moires de vies antÃ©rieures ainsi quâ€™Ã  lâ€™ent
 re-vies : cet espace oÃ¹ retourne notre Ã¢me aprÃ¨s la mort, oÃ¹ elle 
 rÃ©side entre les incarnations.\nJean-Charles anime cette confÃ©rence 
 avec la passion, la rigueur et lâ€™humour qui le caractÃ©risent. Il re
 late ce que des milliers de personnes ont vÃ©cu lors de sessions dâ€™h
 ypnose spirituelle dans lâ€™entre-vies. Fait intÃ©ressant Ã  noter, le
 s tÃ©moignages rejoignent parfaitement ceux de personnes ayant vÃ©cu u
 ne expÃ©rience de mort imminente (Near Death Experience) : rencontre d
 â€™ÃŠtres chers dÃ©cÃ©dÃ©s, Ã©changes avec des ÃŠtres de LumiÃ¨re, exp
 Ã©rience dâ€™Amour inconditionnel, etc.\nQuels sont ces lieux et ces e
 xpÃ©riences rapportÃ©s par ceux et celles qui, en Ã©tat dâ€™hypnose, o
 nt reconnectÃ© avec lâ€™entre-vies? De la rencontre de la famille dâ€™
 Ã¢me Ã  la planification du contrat dâ€™Ã¢me, Jean-Charles vous convie
  Ã  cette fascinante exploration des expÃ©riences diverses qui semblen
 t sâ€™offrir Ã  lâ€™Ã¢me aprÃ¨s sa mort.\nCette confÃ©rence aborde Ã©g
 alement des sujets tels que :\n\nY-a-t-il des preuves de la Vie aprÃ¨s
  la mort?\nLa rÃ©incarnation existe-t-elle vraiment?\nPeut-on rÃ©conci
 lier destin et libre-arbitre?\nQuelles sont les raisons dâ€™effectuer 
 une session dâ€™hypnose spirituelle?\nQuâ€™est-ce quâ€™un contrat dâ€™
 Ã¢me ou une mission de vie?\n\nLa dimension expÃ©rientielle\nEn plus d
 u contenu qui vous captivera et vous stimulera au niveau intellectuel,
  vous vivrez une expÃ©rience unique dâ€™hypnose collective dont lâ€™ob
 jectif est de connecter avec un Guide spirituel. Certaines personnes r
 essentent physiquement la prÃ©sence de leur Guide, dâ€™autres ressente
 nt parfois ce quâ€™il dÃ©gage (Amour, force, paix, etc.). Des suggesti
 ons sont notamment donnÃ©es afin que vous receviez de lâ€™information 
 relativement Ã  votre mission de vie ou encore pour vous permettre de 
 recevoir ce qui vous serait particuliÃ¨rement utile dans votre vie prÃ
 ©sente.\nCette expÃ©rience combine deux puissantes techniques :\n\nTec
 hnique de cohÃ©rence cardiaque : Au moyen dâ€™un support visuel qui pe
 rmet aux participants de synchroniser leurs respirations sur un rythme
  lent et prÃ©cis, cette technique stimule un Ã©tat de rÃ©sonance et de
  cohÃ©rence vibratoire entre les participants. Cette cohÃ©rence amplif
 ie la capacitÃ© de tous Ã  entrer dans le parfait Ã©tat modifiÃ© de co
 nscience nÃ©cessaire pour vivre lâ€™expÃ©rience.\nTechnique de connexi
 on au 8Ã¨me chakra : EnseignÃ©e par lâ€™auteur et mystique Daniel Meur
 ois, cette technique vise Ã  activer notre 8Ã¨me chakra, le siÃ¨ge de 
 notre Moi SupÃ©rieur ou de notre Supraconscience. Ce chakra facilite l
 a connexion avec nos Guides spirituels. Nous sommes reconnaissants Ã  
 Daniel de sa permission dâ€™utiliser cette technique, que vous pourrez
  ensuite pratiquer vous-mÃªme!\n\npour plus d'informations :http://ins
 titut-iihs.com/brest\nparticipation : 10â‚¬\n\nPour plus d'information
 , aller sur https://epanews.fr/events/conf-rence-l-hypnose-spirituelle
 -une-voie-vers-l-au-del
DTSTART;TZID=Europe/Paris:20150411T160000
DTEND;TZID=Europe/Paris:20150411T190000
CATEGORIES:29
LOCATION:BREST
WEBSITE:
URL:
CONTACT:06 79 55 06 32
ORGANIZER:Daniel Berger
ATTACH;FMTTYPE="image/jpeg":http://storage.ning.com/topology/rest/1.0/
 file/get/1663337203?profile=original
ATTENDEE;ROLE=REQ-PARTICIPANT;PARTSTAT=ACCEPTED;RSVP=TRUE;CN="Daniel B
 ":https://epanews.fr/profile/DanielB
END:VEVENT
END:VCALENDAR
