BEGIN:VCALENDAR
PRODID:NingEventWidget-v1
VERSION:2.0
METHOD:PUBLISH
BEGIN:VTIMEZONE
TZID:Europe/Paris
X-LIC-LOCATION:Europe/Paris
BEGIN:DAYLIGHT
TZOFFSETFROM:+0100
TZOFFSETTO:+0200
TZNAME:CEST
DTSTART:19700329T020000
RRULE:FREQ=YEARLY;BYMONTH=3;BYDAY=-1SU
END:DAYLIGHT
BEGIN:STANDARD
TZOFFSETFROM:+0200
TZOFFSETTO:+0100
TZNAME:CET
DTSTART:19701025T030000
RRULE:FREQ=YEARLY;BYMONTH=10;BYDAY=-1SU
END:STANDARD
END:VTIMEZONE
BEGIN:VEVENT
UID:2485226:Event:2821070
DTSTAMP:20260422T075338Z
SUMMARY:Conférence : « l’ego, ses mécanismes et ses jeux de pouvo
 irs »
DESCRIPTION:Inscription obligatoire auprès de Source du bonheur au 06
  77 16 31 11 Participation 20€Conférence animée par Jean-Frédér
 ic Boullier, conférencier et coach de vie, auteur de \" l'Envol du pa
 rdon\", \"Un présent extraordinaire\", et \" Comment se reconcilier a
 vec soi-même\"\"Être ce que l’on fait et faire ce que l’on est .
 \"Nous sommes incarnés et nous avons donc tous un ego, sinon nous ne 
 serions pas là. Aussi est-il essentiel d’en comprendre son origine,
  son mode opératoire, ses mécanismes et son rôle dans les jeux de p
 ouvoirs au quotidien.Cette conférence permet de le découvrir, donc d
 e le maîtriser en conscience au quotidien de manière à passer du m
 ode réactif à mode actif.\n\nPour plus d'information, aller sur http
 s://epanews.fr/events/conf-rence-l-ego-ses-m-canismes-et-ses-jeux-de-p
 ouvoirs
DTSTART;TZID=Europe/Paris:20170530T190000
DTEND;TZID=Europe/Paris:20170530T210000
CATEGORIES:34
LOCATION:montpellier centre
WEBSITE:http://www.sourcedubonheur.fr
URL:http://www.sourcedubonheur.fr
CONTACT:0677163111
ORGANIZER;CN=sb34:https://epanews.fr/profile/sb34
ATTACH;FMTTYPE="image/jpeg":http://storage.ning.com/topology/rest/1.0/
 file/get/1663662644?profile=original
ATTENDEE;ROLE=REQ-PARTICIPANT;PARTSTAT=ACCEPTED;RSVP=TRUE;CN=sb34:http
 s://epanews.fr/profile/sb34
END:VEVENT
END:VCALENDAR
