BEGIN:VCALENDAR
PRODID:NingEventWidget-v1
VERSION:2.0
METHOD:PUBLISH
BEGIN:VTIMEZONE
TZID:Europe/Paris
X-LIC-LOCATION:Europe/Paris
BEGIN:DAYLIGHT
TZOFFSETFROM:+0100
TZOFFSETTO:+0200
TZNAME:CEST
DTSTART:19700329T020000
RRULE:FREQ=YEARLY;BYMONTH=3;BYDAY=-1SU
END:DAYLIGHT
BEGIN:STANDARD
TZOFFSETFROM:+0200
TZOFFSETTO:+0100
TZNAME:CET
DTSTART:19701025T030000
RRULE:FREQ=YEARLY;BYMONTH=10;BYDAY=-1SU
END:STANDARD
END:VTIMEZONE
BEGIN:VEVENT
UID:2485226:Event:2161027
DTSTAMP:20260422T124022Z
SUMMARY:Conférence \"L'Avarice\"
DESCRIPTION:Dimanche 18 janvier 2015 à 20h00, Conférence « L'Avaric
 e »\n(Entrée et participation libres)\n \nKirael réalise une «Ré
 génération de l’Être Humain» grâce à son Energie Créatrice. C
 elle-ci constitue les piliers de la révolution humaine du futur. Cett
 e révolution n’a rien à voir avec le système actuel de la planèt
 e Terre. Elle réalimente le changement humaniste universel et nous pe
 rmet d’atteindre l’identité véritable de l’Être Humain qui in
 clut la Liberté totale. Nous renaissons ainsi en une nouvelle vie ave
 c notre Être Cosmique auquel nous appartenons depuis l’Eternité.\n
  \nLes conférences de Carlos Kirael abordent des sujets spirituels e
 t métaphysiques.\nLa conférence débute par une méditation à 19h30
 , à travers la canalisation de l’énergie créatrice Carlos Kirael 
 développera le thème de la conférence.\nFin de la conférence à 21
 h00\n \nPouya Cultural Center\n48bis Quai de Jemmapes -750010 Paris\n
 (Métro République)\nDans le Centre, descendre l’escalier à gauche
 \n \nPour découvrir Carlos Kirael, vous pouvez consulter le site htt
 p://kirael.es/ et la page facebook https://www.facebook.com/carloskira
 elconnection\nInformations par mail : kirael.paris@gmail.com ou Tel 
 : 06 70 81 60 37\n\nPour plus d'information, aller sur https://epanews
 .fr/events/conf-rence-l-avarice
DTSTART;TZID=Europe/Paris:20150118T193000
DTEND;TZID=Europe/Paris:20150118T210000
CATEGORIES:75
LOCATION:Centre Culturel Pouya, Paris 10e (métro République)
WEBSITE:http://kirael.es
URL:http://kirael.es
CONTACT:06 70 81 60 37
ORGANIZER;CN=Kirael:https://epanews.fr/profile/Kirael
ATTACH;FMTTYPE="image/jpeg":http://storage.ning.com/topology/rest/1.0/
 file/get/1663284278?profile=original
ATTENDEE;ROLE=REQ-PARTICIPANT;PARTSTAT=ACCEPTED;RSVP=TRUE;CN=Kirael:ht
 tps://epanews.fr/profile/Kirael
END:VEVENT
END:VCALENDAR
