BEGIN:VCALENDAR
PRODID:NingEventWidget-v1
VERSION:2.0
METHOD:PUBLISH
BEGIN:VTIMEZONE
TZID:Europe/Paris
X-LIC-LOCATION:Europe/Paris
BEGIN:DAYLIGHT
TZOFFSETFROM:+0100
TZOFFSETTO:+0200
TZNAME:CEST
DTSTART:19700329T020000
RRULE:FREQ=YEARLY;BYMONTH=3;BYDAY=-1SU
END:DAYLIGHT
BEGIN:STANDARD
TZOFFSETFROM:+0200
TZOFFSETTO:+0100
TZNAME:CET
DTSTART:19701025T030000
RRULE:FREQ=YEARLY;BYMONTH=10;BYDAY=-1SU
END:STANDARD
END:VTIMEZONE
BEGIN:VEVENT
UID:2485226:Event:1651430
DTSTAMP:20260423T194128Z
SUMMARY:Conférence L'argent et la prospérité
DESCRIPTION:L'argent doit contribuer à la qualité de notre vie. Si n
 ous haïssons ce que nous faisons pour gagner de l'argent celui-ci ne 
 sert à rien.\n Notre état de prospérité est lié à notre qualité
  de vie Nous avons besoin d'apprendre à mériter et à apprécier l'a
 rgent. Notre conscience de prospérité ne dépend pas de l'argent que
  nous avons.  Et vous, que croyez-vous à propos de l'argent ? Pensez-
 vous en avoir assez ? Le considérez-vous comme votre ami ou votre enn
 emi ? Quel est votre état de prospérité ? Vous sentez-vous dans l'a
 bondance ou dans le manque ? Au cours de cette conférence vous appren
 drez :\n\nA découvrir l'origine de vos croyances limitantes à propos
  de l'argent\nA découvrir les bénéfices cachés qui vous maintienne
 nt dans une situation financière désagréable\nA découvrir vos peur
 s liées à l'argent et à la prospérité et à les dépasser\nCommen
 t passer à l'action pour transformer et améliorer votre situation fi
 nancière et vous sentir prospère.\n\n\n\nRéservation : http://www.b
 illetreduc.com/103588/evt.htm\n\nPour plus d'information, aller sur ht
 tps://epanews.fr/events/conf-rence-l-argent-et-la-prosp-rit-1
DTSTART;TZID=Europe/Paris:20131128T193000
DTEND;TZID=Europe/Paris:20131128T213000
CATEGORIES:75
LOCATION:SYNACTIV SANTE
WEBSITE:https://maps.google.fr/maps?q=14+rue+dupleix+75015+paris&ie=UT
 F-8&hq=&hnear=0x47e67018c9fef29b:0xe951c8a9bb13d0cf,14+Rue+Dupleix,+75
 015+Paris&gl=fr&ei=t0WNUoaXGO_I0AWCjYEg&ved=0CC8Q8gEwAA
URL:https://maps.google.fr/maps?q=14+rue+dupleix+75015+paris&ie=UTF-8&
 hq=&hnear=0x47e67018c9fef29b:0xe951c8a9bb13d0cf,14+Rue+Dupleix,+75015+
 Paris&gl=fr&ei=t0WNUoaXGO_I0AWCjYEg&ved=0CC8Q8gEwAA
CONTACT:
ORGANIZER;CN="Cristina Marques":https://epanews.fr/profile/CristinaMar
 ques
ATTACH;FMTTYPE="image/jpeg":http://storage.ning.com/topology/rest/1.0/
 file/get/1662977959?profile=original
ATTENDEE;ROLE=REQ-PARTICIPANT;PARTSTAT=ACCEPTED;RSVP=TRUE;CN="Cristina
  Marques":https://epanews.fr/profile/CristinaMarques
END:VEVENT
END:VCALENDAR
