BEGIN:VCALENDAR
PRODID:NingEventWidget-v1
VERSION:2.0
METHOD:PUBLISH
BEGIN:VTIMEZONE
TZID:Europe/Paris
X-LIC-LOCATION:Europe/Paris
BEGIN:DAYLIGHT
TZOFFSETFROM:+0100
TZOFFSETTO:+0200
TZNAME:CEST
DTSTART:19700329T020000
RRULE:FREQ=YEARLY;BYMONTH=3;BYDAY=-1SU
END:DAYLIGHT
BEGIN:STANDARD
TZOFFSETFROM:+0200
TZOFFSETTO:+0100
TZNAME:CET
DTSTART:19701025T030000
RRULE:FREQ=YEARLY;BYMONTH=10;BYDAY=-1SU
END:STANDARD
END:VTIMEZONE
BEGIN:VEVENT
UID:2485226:Event:2244183
DTSTAMP:20260421T140854Z
SUMMARY:Conférence Kinésiologie découverte
DESCRIPTION:\nConférence « Kinésiologie découverte »animée par
  Patricia LAURENTLe 4 avril 2015 de 14 heures à 17 h 30315, allé
 e Marie-CurieZA LAVALDUC13270 FOS SUR MER\n\nVous vous demandez ce que
  peut vous apporter la kinésiologie ? Cette conférence vous permett
 ra d’avoir une approche de la kinésiologie, et plus particulièreme
 nt du Touch For Health, du Brain Gym et de la kinésiologie harmonique
 . En fin de séance, vous comprendrez comment dépasser vos stress, vo
 s peurs et vos blocages avec cette technique créée en 1960.\nVous ap
 prendrez des gestes de base qui vous permettront de vous recentrer et 
 de vous équilibrer au quotidien.\n(Pour des raisons d’organisation,
  merci de bien vouloir vous inscrire très rapidement, et dans la mesu
 re du possible au moins deux semaines avant la date de la conférence)
 .\nTarif : 12€ \n\nPour plus d'information, aller sur https://epa
 news.fr/events/conf-rence-kin-siologie-d-couverte
DTSTART;TZID=Europe/Paris:20150404T140000
DTEND;TZID=Europe/Paris:20150404T170000
CATEGORIES:13
LOCATION:Cabinet de Kinésiologie - Thérapie naturelle
WEBSITE:http://xn--kinsiologie-dbb.patricialaurent.fr/index.html
URL:http://xn--kinsiologie-dbb.patricialaurent.fr/index.html
CONTACT:0603645619
ORGANIZER;CN="Patricia LAURENT- Kinésiologie":https://epanews.fr/prof
 ile/LAURENT723
ATTACH;FMTTYPE="image/jpeg":
ATTENDEE;ROLE=REQ-PARTICIPANT;PARTSTAT=ACCEPTED;RSVP=TRUE;CN="Patricia
  LAURENT- Kinésiologie":https://epanews.fr/profile/LAURENT723
END:VEVENT
END:VCALENDAR
