BEGIN:VCALENDAR
PRODID:NingEventWidget-v1
VERSION:2.0
METHOD:PUBLISH
BEGIN:VTIMEZONE
TZID:Europe/Paris
X-LIC-LOCATION:Europe/Paris
BEGIN:DAYLIGHT
TZOFFSETFROM:+0100
TZOFFSETTO:+0200
TZNAME:CEST
DTSTART:19700329T020000
RRULE:FREQ=YEARLY;BYMONTH=3;BYDAY=-1SU
END:DAYLIGHT
BEGIN:STANDARD
TZOFFSETFROM:+0200
TZOFFSETTO:+0100
TZNAME:CET
DTSTART:19701025T030000
RRULE:FREQ=YEARLY;BYMONTH=10;BYDAY=-1SU
END:STANDARD
END:VTIMEZONE
BEGIN:VEVENT
UID:2485226:Event:1728121
DTSTAMP:20260420T193155Z
SUMMARY:conférence :Joao de Deus, l'homme aux miracles
DESCRIPTION:Andrea BONNET témoignera de sa rencontre avec le médium 
 guérisseur,\nJoao de Deus, « l’Homme  aux miracles ! »\nAndréa 
 vous donnera plus d’informations, avec un débat après une projecti
 on/DVD où des médecins renommés et des scientifiques spécialisés 
 dans divers domaines ont fait part de leurs recherches et de leurs exp
 ériences personnelles en lien avec les traitements couronnés de succ
 ès de Joao de Deus (ou Jean de Dieu). Vous entendrez également des t
 émoignages de guérison !\nElle vous parlera aussi des voyages qu’e
 lle propose, en tant que guide nommée par Joao de Deus, pour rencontr
 er cet être \"hors du commun\" dans un lieu exceptionnel..\nJoão de 
 Deus est le médium le plus connu au monde des médiums-en-transe\nDep
 uis plus de 50 ans il consacre sa vie au traitement spirituel de ceux 
 qui demandent du secours. Des millions de gens venant de partout dans 
 le monde ont déjà visité la Casa à Abadiania, le centre de guéris
 on spirituelle de Don Iniacio de Loyola, pour bénéficier de ses trai
 tements et chercher la guérison. D'innombrables personnes ont relaté
  que grâce à lui leurs problèmes physiques ou psychiques ont été 
 soulagés ou parfois ont complètement disparu. Au Brésil, João offr
 e ses traitements spirituels gratuitement avec tout son cœur et abné
 gation à toutes les personnes, indépendamment de leur religion, race
  ou croyances… Messager d'amour et de guérison, il a touché la vie
  d'innombrables êtres humains qui lui ont demandé de l'aide.\n\n\nPo
 ur plus d'information, aller sur https://epanews.fr/events/conf-rence-
 joao-de-deus-l-homme-aux-miracles
DTSTART;TZID=Europe/Paris:20140209T141500
DTEND;TZID=Europe/Paris:20140209T180000
CATEGORIES:72, 53, 61
LOCATION:LE MANS Novotel Bords d'Huisne
WEBSITE:
URL:
CONTACT:02 28 01 88 05 /06 07 41 81 49
ORGANIZER:MARIA LOIRE association Les Petites Mains de la Lumière
ATTACH;FMTTYPE="image/jpeg":http://storage.ning.com/topology/rest/1.0/
 file/get/1663019918?profile=original
ATTENDEE;ROLE=REQ-PARTICIPANT;PARTSTAT=ACCEPTED;RSVP=TRUE;CN="MARIA LO
 IRE":https://epanews.fr/profile/MARIALOIRE
ATTENDEE;ROLE=REQ-PARTICIPANT;PARTSTAT=TENTATIVE;RSVP=TRUE;CN=Luz:http
 s://epanews.fr/profile/Luz
END:VEVENT
END:VCALENDAR
