BEGIN:VCALENDAR
PRODID:NingEventWidget-v1
VERSION:2.0
METHOD:PUBLISH
BEGIN:VTIMEZONE
TZID:Europe/Paris
X-LIC-LOCATION:Europe/Paris
BEGIN:DAYLIGHT
TZOFFSETFROM:+0100
TZOFFSETTO:+0200
TZNAME:CEST
DTSTART:19700329T020000
RRULE:FREQ=YEARLY;BYMONTH=3;BYDAY=-1SU
END:DAYLIGHT
BEGIN:STANDARD
TZOFFSETFROM:+0200
TZOFFSETTO:+0100
TZNAME:CET
DTSTART:19701025T030000
RRULE:FREQ=YEARLY;BYMONTH=10;BYDAY=-1SU
END:STANDARD
END:VTIMEZONE
BEGIN:VEVENT
UID:2485226:Event:554302
DTSTAMP:20260423T025236Z
SUMMARY:Conférence Jacques Salomé à Romans (26)
DESCRIPTION:Conférence Jacques Salomé\nEtre parents ou enseignants a
 ujourd’hui pour des enfants et des adolescents\nqui seront les adult
 es de demain\nA%20%20Parents_Enfants.pdf\n\nPour plus d'information, a
 ller sur https://epanews.fr/events/conf-rence-jacques-salom-romans-26
DTSTART;TZID=Europe/Paris:20111011T200000
DTEND;TZID=Europe/Paris:20111011T230000
CATEGORIES:26
LOCATION:Romans sur Isère
WEBSITE:http://arbredevie.over-blog.fr/
URL:http://arbredevie.over-blog.fr/
CONTACT:
ORGANIZER:Association l'Arbre de Vie
ATTACH;FMTTYPE="image/jpeg":http://storage.ning.com/topology/rest/1.0/
 file/get/1662470555?profile=original
ATTENDEE;ROLE=REQ-PARTICIPANT;PARTSTAT=ACCEPTED;RSVP=TRUE;CN=cath:http
 s://epanews.fr/profile/cath
END:VEVENT
END:VCALENDAR
