BEGIN:VCALENDAR
PRODID:NingEventWidget-v1
VERSION:2.0
METHOD:PUBLISH
BEGIN:VTIMEZONE
TZID:Europe/Paris
X-LIC-LOCATION:Europe/Paris
BEGIN:DAYLIGHT
TZOFFSETFROM:+0100
TZOFFSETTO:+0200
TZNAME:CEST
DTSTART:19700329T020000
RRULE:FREQ=YEARLY;BYMONTH=3;BYDAY=-1SU
END:DAYLIGHT
BEGIN:STANDARD
TZOFFSETFROM:+0200
TZOFFSETTO:+0100
TZNAME:CET
DTSTART:19701025T030000
RRULE:FREQ=YEARLY;BYMONTH=10;BYDAY=-1SU
END:STANDARD
END:VTIMEZONE
BEGIN:VEVENT
UID:2485226:Event:2871116
DTSTAMP:20260422T041052Z
SUMMARY:conférence InterActive sur le féminin réceptif.
DESCRIPTION:\nJeudi 21 septembre, Conférence InterActive sur « LE F
 EMININ RECEPTIF ».\nLors de cette conférence vous découvrirez la d
 ifférence entre un « Féminin passif » et un « Féminin récept
 if », la place de notre « Masculin » dans le processus d'ouvertu
 re à son « Féminin », ainsi que celle des hommes. Nous expérim
 enterons la différence entre prendre/recevoir et donner/recevoir.\nUn
  espace de questions/réponses vous permettra de poser toutes vos ques
 tion​s afin de\n développer encore plus ce thème\n​ et vous le 
 rendre plus concret​\n. \nHoraire : Rendez-vous de 19 h à 21h30.
 \nLieu : Espace « Untout » - au 54 avenue de Mozart 75016 Paris
 \nTarifs : Participation libre pour les frais de la salle et l’accu
 eil.\n\nPour plus d'information, aller sur https://epanews.fr/events/c
 onf-rence-interactive-sur-le-feminin-receptif
DTSTART;TZID=Europe/Paris:20170921T190000
DTEND;TZID=Europe/Paris:20170921T213000
CATEGORIES:75016
LOCATION:Espace « Untout » 54 Avenue de Mozart
WEBSITE:http://www.therapierelationnelle.fr
URL:http://www.therapierelationnelle.fr
CONTACT:0617469294
ORGANIZER;CN=lavoie2laconscience:https://epanews.fr/profile/lavoieduto
 ut
ATTACH;FMTTYPE="image/jpeg":
ATTENDEE;ROLE=REQ-PARTICIPANT;PARTSTAT=ACCEPTED;RSVP=TRUE;CN=lavoie2la
 conscience:https://epanews.fr/profile/lavoiedutout
END:VEVENT
END:VCALENDAR
