BEGIN:VCALENDAR
PRODID:NingEventWidget-v1
VERSION:2.0
METHOD:PUBLISH
BEGIN:VTIMEZONE
TZID:Europe/Paris
X-LIC-LOCATION:Europe/Paris
BEGIN:DAYLIGHT
TZOFFSETFROM:+0100
TZOFFSETTO:+0200
TZNAME:CEST
DTSTART:19700329T020000
RRULE:FREQ=YEARLY;BYMONTH=3;BYDAY=-1SU
END:DAYLIGHT
BEGIN:STANDARD
TZOFFSETFROM:+0200
TZOFFSETTO:+0100
TZNAME:CET
DTSTART:19701025T030000
RRULE:FREQ=YEARLY;BYMONTH=10;BYDAY=-1SU
END:STANDARD
END:VTIMEZONE
BEGIN:VEVENT
UID:2485226:Event:2671972
DTSTAMP:20260422T080852Z
SUMMARY:Conférence interactive : Le petit chaperon rouge ou la manipu
 lation relationnelle, par Véronique LB
DESCRIPTION:Inscription obligatoire auprès de Source du bonheur au 04
  11 75 16 85 ou 06 77 16 31 11 Participation 10 € + une consommation
  à prendre sur place  Animée par Véronique,  \"Tous les manipulateu
 rs ne sont pas des pervers narcissiques. Un manipulateur peut manipule
 r pour parvenir à ses fins, mais ne cherche pas forcément à blesser
  l'autre. En revanche, le pervers narcissique ressent un besoin maladi
 f de se mettre en valeur, et cherche  volontairement à écraser l'au
 tre, à le faire souffrir. La manipulation n'est qu'une des caractéri
 stiques du pervers narcissique. Autrement dit : tous les pervers narci
 ssiques sont des manipulateurs, mais tous les manipulateurs ne sont pa
 s des pervers narcissiques !\"  Véronique vous présentera :   - Com
 ment repérer l'influence malsaine des pervers narcissiques. - Pourquo
 i notre société facilite l'augmentation de ces personnalités préda
 trices. - Des tests pratiques pour faire le point sur des relations av
 ec précision et clarté. - Jeu des subpersonnalités, qui fera appara
 itre votre théâtre intérieur, et les failles de cet ancrage doulour
 eux. (moi-critique -enfant intérieur..etc.)  Comment sortirez-vous de
  ce lien afin de réussir à être plus forte et grandie ensuite .\n\n
 Pour plus d'information, aller sur https://epanews.fr/events/conf-renc
 e-interactive-le-petit-chaperon-rouge-ou-la-manipulati-1
DTSTART;TZID=Europe/Paris:20160704T190000
DTEND;TZID=Europe/Paris:20160704T200000
CATEGORIES:34
LOCATION:montpellier centre
WEBSITE:http://www.sourcedubonheur.fr
URL:http://www.sourcedubonheur.fr
CONTACT:0411751685
ORGANIZER;CN=sb34:https://epanews.fr/profile/sb34
ATTACH;FMTTYPE="image/jpeg":http://storage.ning.com/topology/rest/1.0/
 file/get/1663574088?profile=original
ATTENDEE;ROLE=REQ-PARTICIPANT;PARTSTAT=ACCEPTED;RSVP=TRUE;CN=sb34:http
 s://epanews.fr/profile/sb34
END:VEVENT
END:VCALENDAR
