BEGIN:VCALENDAR
PRODID:NingEventWidget-v1
VERSION:2.0
METHOD:PUBLISH
BEGIN:VTIMEZONE
TZID:Europe/Paris
X-LIC-LOCATION:Europe/Paris
BEGIN:DAYLIGHT
TZOFFSETFROM:+0100
TZOFFSETTO:+0200
TZNAME:CEST
DTSTART:19700329T020000
RRULE:FREQ=YEARLY;BYMONTH=3;BYDAY=-1SU
END:DAYLIGHT
BEGIN:STANDARD
TZOFFSETFROM:+0200
TZOFFSETTO:+0100
TZNAME:CET
DTSTART:19701025T030000
RRULE:FREQ=YEARLY;BYMONTH=10;BYDAY=-1SU
END:STANDARD
END:VTIMEZONE
BEGIN:VEVENT
UID:2485226:Event:1952732
DTSTAMP:20260421T200751Z
SUMMARY:Conférence \"Hypnose\"
DESCRIPTION:Conférence gratuite sur inscription à Luxembourg Vendre
 di 27 juin à 19h Le lieu de la conférence vous sera communiqué proc
 hainement\nHypnose : de l’arrêt du tabac à l’amincissement. Déc
 ouvrez un Art… Faites-en votre Métier !\nJocelyne Striebig dédicac
 era son nouveau livre :\nConfiance et estime de soi avec l’auto-hypn
 ose Par Jocelyne Striebig et Cathy Bernheim.\nhttp://www.formation-hyp
 nose.org/\n\nPour plus d'information, aller sur https://epanews.fr/eve
 nts/conf-rence-hypnose
DTSTART;TZID=Europe/Paris:20140617T190000
DTEND;TZID=Europe/Paris:20140617T210000
CATEGORIES:57
LOCATION:LUXEMBOURG
WEBSITE:http://www.essensielle.lu
URL:http://www.essensielle.lu
CONTACT:00352 661 26 02 07
ORGANIZER;CN=essensielle:https://epanews.fr/profile/essensielle
ATTACH;FMTTYPE="image/jpeg":
ATTENDEE;ROLE=REQ-PARTICIPANT;PARTSTAT=ACCEPTED;RSVP=TRUE;CN=essensiel
 le:https://epanews.fr/profile/essensielle
END:VEVENT
END:VCALENDAR
