BEGIN:VCALENDAR
PRODID:NingEventWidget-v1
VERSION:2.0
METHOD:PUBLISH
BEGIN:VTIMEZONE
TZID:Europe/Paris
X-LIC-LOCATION:Europe/Paris
BEGIN:DAYLIGHT
TZOFFSETFROM:+0100
TZOFFSETTO:+0200
TZNAME:CEST
DTSTART:19700329T020000
RRULE:FREQ=YEARLY;BYMONTH=3;BYDAY=-1SU
END:DAYLIGHT
BEGIN:STANDARD
TZOFFSETFROM:+0200
TZOFFSETTO:+0100
TZNAME:CET
DTSTART:19701025T030000
RRULE:FREQ=YEARLY;BYMONTH=10;BYDAY=-1SU
END:STANDARD
END:VTIMEZONE
BEGIN:VEVENT
UID:2485226:Event:1329908
DTSTAMP:20260421T155106Z
SUMMARY:Conférence Guy CORNEAU
DESCRIPTION:« Le meilleur de soi » : Comment faire vivre son idéa
 l ?\nChacun de nous veut exprimer le meilleur de lui-même.\nPourtant
 , nous vivons entravés comme si quelque chose nous empêche d'aller v
 ers notre idéal. Lors de cette conférence, nous verrons comment nous
  pouvons libérer cet idéal de l'emprise de la peur et des croyances 
 négatives en nourrissant le meilleur de ce que nous sommes. Finalemen
 t, nous découvrirons que l'expression, au quotidien, des goûts et de
 s aptitudes constitue le chemin de la joie pour un être humain.\nInfo
 rmations pratiques\nLe jeudi 02 mai 2013 à 20h00 (Accueil dès 19h15)
 .\nLieu : Centre Culturel des Ecraignes, 6 rue Albert 1er\n54600 Ville
 rs les Nancy\nEntrée : 12 €\nInscriptions : \nChèque de 12€ à
  l’ordre de : Association BiOasis\n7 rue Mozart\n54600 VILLERS LES N
 ANCY\nPréciser nom, prénom, ville et adresse email\nRenseignements 
 : \nChristian CRAPOIX 06 43 33 56 05\nbioasis-54@orange.fr\n\nPour pl
 us d'information, aller sur https://epanews.fr/events/conf-rence-guy-c
 orneau
DTSTART;TZID=Europe/Paris:20130502T200000
DTEND;TZID=Europe/Paris:20130502T230000
CATEGORIES:54
LOCATION:54  VILLERS LES NANCY
WEBSITE:http://maps.google.com/maps?q=6+Rue+Albert+1er,+Villers-l%C3%A
 8s-Nancy,+France&hl=en&ie=UTF8&sll=37.0625,-95.677068&sspn=39.184175,7
 5.9375&oq=6+rue+albert+1er+villers+les+&hnear=6+Rue+Albert+1er,+54600+
 Villers-l%C3%A8s-Nancy,+Meurthe-et-Moselle,+Lorraine,+France&t=m&z=16
URL:http://maps.google.com/maps?q=6+Rue+Albert+1er,+Villers-l%C3%A8s-N
 ancy,+France&hl=en&ie=UTF8&sll=37.0625,-95.677068&sspn=39.184175,75.93
 75&oq=6+rue+albert+1er+villers+les+&hnear=6+Rue+Albert+1er,+54600+Vill
 ers-l%C3%A8s-Nancy,+Meurthe-et-Moselle,+Lorraine,+France&t=m&z=16
CONTACT:06 43 33 56 05
ORGANIZER;CN="Christian CRAPOIX":https://epanews.fr/profile/ChristianC
 RAPOIX
ATTACH;FMTTYPE="image/jpeg":http://storage.ning.com/topology/rest/1.0/
 file/get/1662823859?profile=original
ATTENDEE;ROLE=REQ-PARTICIPANT;PARTSTAT=ACCEPTED;RSVP=TRUE;CN="Christia
 n CRAPOIX":https://epanews.fr/profile/ChristianCRAPOIX
END:VEVENT
END:VCALENDAR
