BEGIN:VCALENDAR
PRODID:NingEventWidget-v1
VERSION:2.0
METHOD:PUBLISH
BEGIN:VTIMEZONE
TZID:Europe/Paris
X-LIC-LOCATION:Europe/Paris
BEGIN:DAYLIGHT
TZOFFSETFROM:+0100
TZOFFSETTO:+0200
TZNAME:CEST
DTSTART:19700329T020000
RRULE:FREQ=YEARLY;BYMONTH=3;BYDAY=-1SU
END:DAYLIGHT
BEGIN:STANDARD
TZOFFSETFROM:+0200
TZOFFSETTO:+0100
TZNAME:CET
DTSTART:19701025T030000
RRULE:FREQ=YEARLY;BYMONTH=10;BYDAY=-1SU
END:STANDARD
END:VTIMEZONE
BEGIN:VEVENT
UID:2485226:Event:2722613
DTSTAMP:20260423T000340Z
SUMMARY:Conférence - Guidance informationnelle et Quantique - Rennes
DESCRIPTION:Guidance Informationnelle & Quantique\nS'accompagner dans 
 nos défis de réalité\n\nAuteur de 4 livres (Reconnexion de Soi vers
  Soi), Patrick Poinsenet présentera une méthode ré-informationnelle
  reposant sur la pensée quantique et une guidance intuitive. Sur la b
 ase d'un nouveau modèle de la psyché, nous verrons comment réorient
 er notre création en conscience vers ce que nous désirons vivre.\nLa
  perspective ré-informationnelle définit de nouveaux leviers pour in
 fléchir sa réalité en ajustant son intention avec ses ressentis. De
 venez coach de réalité à bord d'une vision unifiée de la conscienc
 e et de la réalisation de soi. \nQue vous souhaitiez intégrer ce nou
 vel outil professionnellement ou pour vous-même, que vous résonniez 
 juste par curiosité ou appel intérieur, et bien ne ratez surtout pas
  cette conférence !  \nTarif : 10 € / 8 €. Accéder au document
  de présentation\n\nPour plus d'information, aller sur https://epanew
 s.fr/events/conf-rence-guidance-informationnelle-et-quantique-rennes
DTSTART;TZID=Europe/Paris:20161012T194500
DTEND;TZID=Europe/Paris:20161012T223000
CATEGORIES:35
LOCATION:Maison des associations
WEBSITE:http://grainedevie.eklablog.com/conferences-a-venir-p1141572
URL:http://grainedevie.eklablog.com/conferences-a-venir-p1141572
CONTACT:0617100230
ORGANIZER:Association Graine de vie
ATTACH;FMTTYPE="image/jpeg":http://storage.ning.com/topology/rest/1.0/
 file/get/1663612540?profile=original
ATTENDEE;ROLE=REQ-PARTICIPANT;PARTSTAT=ACCEPTED;RSVP=TRUE;CN=Elphika:h
 ttps://epanews.fr/profile/Elphika
END:VEVENT
END:VCALENDAR
