BEGIN:VCALENDAR
PRODID:NingEventWidget-v1
VERSION:2.0
METHOD:PUBLISH
BEGIN:VTIMEZONE
TZID:Europe/Paris
X-LIC-LOCATION:Europe/Paris
BEGIN:DAYLIGHT
TZOFFSETFROM:+0100
TZOFFSETTO:+0200
TZNAME:CEST
DTSTART:19700329T020000
RRULE:FREQ=YEARLY;BYMONTH=3;BYDAY=-1SU
END:DAYLIGHT
BEGIN:STANDARD
TZOFFSETFROM:+0200
TZOFFSETTO:+0100
TZNAME:CET
DTSTART:19701025T030000
RRULE:FREQ=YEARLY;BYMONTH=10;BYDAY=-1SU
END:STANDARD
END:VTIMEZONE
BEGIN:VEVENT
UID:2485226:Event:832722
DTSTAMP:20260422T021856Z
SUMMARY:ConfÃ©rence \"GuÃ©rison avec la lumiÃ¨re Blanche\" Annick Brof
 man
DESCRIPTION:PARIS CONFÃ‰RENCE VENDREDI 22 JUIN 20H\nANNICK BROFMANÂ : 
 \"GUÃ‰RISON AVEC LA LUMIERE BLANCHE\"\nUne soirÃ©e idÃ©ale pour dÃ©cou
 vrir ou faire connaÃ®tre les techniques de guÃ©rison crÃ©Ã©es par Mart
 in Brofman, et explorer les philosophies impliquÃ©es dans le processus
  de guÃ©rison. Bienvenue ! !\nINFORMATIONS - RÃ‰SERVATIONS : BÃ‰NÃ‰DIC
 TE AUDÃ‰OUD\nBÃ©nergie Association loi 1901 - 23 rue Drouot 75009 Pari
 s\nTel : +33 (0)6 03 18 59 40Â  +33 (0)1 47 70 66 87Â  Email : benergi
 e@hotmail.com\nLIEU - HORAIRES - TARIFÂ :\nHÃ´tel Mercure Monty OpÃ©ra
 , 5 rue de Montyon 75009 Paris. RÃ©servations recommandÃ©es ou billett
 erie sur place dÃ¨s 19H30. Participation aux frais 10â‚¬ (ou 5â‚¬ si v
 ous rencontrez des difficultÃ©s financiÃ¨res)\nAnnick Brofman vous par
 lera de la guÃ©rison, son principe, sa dynamique et vous expliquera co
 mment Ã©changer une guÃ©rison en utilisant la LumiÃ¨re blanche. Vous s
 erez guidÃ©s dans un exercice pour vous faire ressentir l'Ã©nergie dan
 s vos mains, Ã  travers une trÃ¨s belle expÃ©rience dans un Ã©tat de r
 elaxation profonde, vous apprendrez Ã  voir, sentir et diriger cette Ã
 ©nergie et passerez d'une expÃ©rience subjective Ã  une expÃ©rience pa
 rtagÃ©e. Vous dÃ©couvrirez les bienfaits d'un outil simple et disponib
 le pour tous, une des bases des techniques de la MÃ©thode Corps-Miroir
 . C'est l'opportunitÃ© de dÃ©couvrir la nature illimitÃ©e de votre Etr
 e, de faire l'expÃ©rience de la puissance de votre conscience et de vo
 tre amour.\n\nPour plus d'information, aller sur https://epanews.fr/ev
 ents/conf-rence-gu-rison-avec-la-lumi-re-blanche-annick-brofman
DTSTART;TZID=Europe/Paris:20120622T200000
DTEND;TZID=Europe/Paris:20120622T220000
CATEGORIES:75
LOCATION:HÃ´tel Mercure
WEBSITE:http://www.benergie.fr
URL:http://www.benergie.fr
CONTACT:+33 (0)6 03 18 59 40
ORGANIZER;CN=BÃ©nergie:https://epanews.fr/profile/Benergie
ATTACH;FMTTYPE="image/jpeg":http://storage.ning.com/topology/rest/1.0/
 file/get/1662616768?profile=original
ATTENDEE;ROLE=REQ-PARTICIPANT;PARTSTAT=ACCEPTED;RSVP=TRUE;CN=BÃ©nergie
 :https://epanews.fr/profile/Benergie
END:VEVENT
END:VCALENDAR
