BEGIN:VCALENDAR
PRODID:NingEventWidget-v1
VERSION:2.0
METHOD:PUBLISH
BEGIN:VTIMEZONE
TZID:Europe/Paris
X-LIC-LOCATION:Europe/Paris
BEGIN:DAYLIGHT
TZOFFSETFROM:+0100
TZOFFSETTO:+0200
TZNAME:CEST
DTSTART:19700329T020000
RRULE:FREQ=YEARLY;BYMONTH=3;BYDAY=-1SU
END:DAYLIGHT
BEGIN:STANDARD
TZOFFSETFROM:+0200
TZOFFSETTO:+0100
TZNAME:CET
DTSTART:19701025T030000
RRULE:FREQ=YEARLY;BYMONTH=10;BYDAY=-1SU
END:STANDARD
END:VTIMEZONE
BEGIN:VEVENT
UID:2485226:Event:709411
DTSTAMP:20260422T233011Z
SUMMARY:ConfÃ©rence gratuite sur la Biomusic
DESCRIPTION:Â - Comment vous protÃ©ger efficacement des ondes nÃ©faste
 s des nouvelles technologies pour ne plus en Ãªtre les victimes passiv
 es.\n- Comment revitaliser lâ€™organisme et retrouver lâ€™Ã©nergie et 
 la clartÃ© nÃ©cessaires pour faire face aux demandes toujours pressant
 es de la vie quotidienne.\n- Pour les thÃ©rapeutes : comment optimiser
  toute forme de thÃ©rapie et de traitement.\nPrÃ©sentÃ©e par Jean-Loui
 s Fargier, co-crÃ©ateur dâ€™un procÃ©dÃ© basÃ© sur la recherche de lâ€
 ™Â« Equilibre Fondamental de Vie Â»\nConfÃ©rence Gratuite\n\nPour plus
  d'information, aller sur https://epanews.fr/events/conf-rence-gratuit
 e-sur-la-biomusic
DTSTART;TZID=Europe/Paris:20120314T193000
DTEND;TZID=Europe/Paris:20120314T210000
CATEGORIES:95
LOCATION:Pontoise
WEBSITE:http://www.coeursacorps.com
URL:http://www.coeursacorps.com
CONTACT:0130320346
ORGANIZER:CÅ“urs Ã  Corps
ATTACH;FMTTYPE="image/jpeg":http://storage.ning.com/topology/rest/1.0/
 file/get/1662564372?profile=original
ATTENDEE;ROLE=REQ-PARTICIPANT;PARTSTAT=ACCEPTED;RSVP=TRUE;CN="Nadia Po
 ullain":https://epanews.fr/profile/NadiaPoullain
END:VEVENT
END:VCALENDAR
