BEGIN:VCALENDAR
PRODID:NingEventWidget-v1
VERSION:2.0
METHOD:PUBLISH
BEGIN:VTIMEZONE
TZID:Europe/Paris
X-LIC-LOCATION:Europe/Paris
BEGIN:DAYLIGHT
TZOFFSETFROM:+0100
TZOFFSETTO:+0200
TZNAME:CEST
DTSTART:19700329T020000
RRULE:FREQ=YEARLY;BYMONTH=3;BYDAY=-1SU
END:DAYLIGHT
BEGIN:STANDARD
TZOFFSETFROM:+0200
TZOFFSETTO:+0100
TZNAME:CET
DTSTART:19701025T030000
RRULE:FREQ=YEARLY;BYMONTH=10;BYDAY=-1SU
END:STANDARD
END:VTIMEZONE
BEGIN:VEVENT
UID:2485226:Event:510222
DTSTAMP:20260423T175125Z
SUMMARY:ConfÃ©rence gratuite : NumÃ©rologie et YI-KING
DESCRIPTION:\nLa NumÃ©rologie Evolutive est une science qui analyse le
 s caractÃ©ritisques individuelles Â contenues dans lâ€™expression du N
 om, des PrÃ©noms et de la Date de Naissance. Elle apprÃ©hende ainsi lâ
 €™homme dans sa totalitÃ© et propose un dÃ©veloppement personnel\npar 
 la Connaissance de Soi et de ses possibles.\n\n\nPour plus d'informati
 on, aller sur https://epanews.fr/events/conf-rence-gratuite-numerologi
 e-et-yi-king-1
DTSTART;TZID=Europe/Paris:20110924T200000
DTEND;TZID=Europe/Paris:20110924T220000
CATEGORIES:83
LOCATION:Toulon/ Aubagne
WEBSITE:http://Chateau Banet Ã  150m du rond point marro station total
URL:http://Chateau Banet Ã  150m du rond point marro station total
CONTACT:0611761806
ORGANIZER;CN="BARADEL Antoine":https://epanews.fr/profile/BARADELAntoi
 ne
ATTACH;FMTTYPE="image/jpeg":
ATTENDEE;ROLE=REQ-PARTICIPANT;PARTSTAT=ACCEPTED;RSVP=TRUE;CN="VIRGINIE
  LE GALL":https://epanews.fr/profile/VirginieLeGall
ATTENDEE;ROLE=REQ-PARTICIPANT;PARTSTAT=ACCEPTED;RSVP=TRUE;CN="BARADEL 
 Antoine":https://epanews.fr/profile/BARADELAntoine
ATTENDEE;ROLE=REQ-PARTICIPANT;PARTSTAT=TENTATIVE;RSVP=TRUE;CN=jane:htt
 ps://epanews.fr/profile/jane749
END:VEVENT
END:VCALENDAR
