BEGIN:VCALENDAR
PRODID:NingEventWidget-v1
VERSION:2.0
METHOD:PUBLISH
BEGIN:VTIMEZONE
TZID:Europe/Paris
X-LIC-LOCATION:Europe/Paris
BEGIN:DAYLIGHT
TZOFFSETFROM:+0100
TZOFFSETTO:+0200
TZNAME:CEST
DTSTART:19700329T020000
RRULE:FREQ=YEARLY;BYMONTH=3;BYDAY=-1SU
END:DAYLIGHT
BEGIN:STANDARD
TZOFFSETFROM:+0200
TZOFFSETTO:+0100
TZNAME:CET
DTSTART:19701025T030000
RRULE:FREQ=YEARLY;BYMONTH=10;BYDAY=-1SU
END:STANDARD
END:VTIMEZONE
BEGIN:VEVENT
UID:2485226:Event:829693
DTSTAMP:20260423T011800Z
SUMMARY:Conférence gratuite : Mieux vous connaître et mieux communiq
 uer  avec vos enfants
DESCRIPTION:Comprendre vos enfants : jeunes et ados, pour mieux dialog
 uer avec eux et les aider dans le développement de leur potentiels.\n
 \nPour plus d'information, aller sur https://epanews.fr/events/conf-re
 nce-gratuite-mieux-vous-conna-tre-et-mieux-communiquer
DTSTART;TZID=Europe/Paris:20120627T183000
DTEND;TZID=Europe/Paris:20120627T210000
CATEGORIES:13
LOCATION:La Ciotat 13600
WEBSITE:
URL:
CONTACT:0686952562
ORGANIZER;CN=Marianne:https://epanews.fr/profile/MarianneJalil
ATTACH;FMTTYPE="image/jpeg":
ATTENDEE;ROLE=REQ-PARTICIPANT;PARTSTAT=ACCEPTED;RSVP=TRUE;CN=Marianne:
 https://epanews.fr/profile/MarianneJalil
ATTENDEE;ROLE=REQ-PARTICIPANT;PARTSTAT=TENTATIVE;RSVP=TRUE;CN="l'unive
 rs de Céline":https://epanews.fr/profile/GIRARDCELINE
END:VEVENT
END:VCALENDAR
