BEGIN:VCALENDAR
PRODID:NingEventWidget-v1
VERSION:2.0
METHOD:PUBLISH
BEGIN:VTIMEZONE
TZID:Europe/Paris
X-LIC-LOCATION:Europe/Paris
BEGIN:DAYLIGHT
TZOFFSETFROM:+0100
TZOFFSETTO:+0200
TZNAME:CEST
DTSTART:19700329T020000
RRULE:FREQ=YEARLY;BYMONTH=3;BYDAY=-1SU
END:DAYLIGHT
BEGIN:STANDARD
TZOFFSETFROM:+0200
TZOFFSETTO:+0100
TZNAME:CET
DTSTART:19701025T030000
RRULE:FREQ=YEARLY;BYMONTH=10;BYDAY=-1SU
END:STANDARD
END:VTIMEZONE
BEGIN:VEVENT
UID:2485226:Event:2702332
DTSTAMP:20260421T225934Z
SUMMARY:Conférence gratuite \"le détachement des traumatismes\"
DESCRIPTION:Conférence Le détachement de traumatismes par Jacqueline
  Dubost & Fabienne Bousseau, Neurothérapeutes - \n\nLundi 29 Août 2
 016 à 18h30\n\nQu'est-ce que le détachement de traumatismes? \nMart
 ine Clavelli crée en 2013 le détachement de traumatismes. Cette tech
 nique issue de la PNL, de l'EMDR, de l'hypnose Ericksonienne est une t
 echnique puissante, rapide et efficace qui déprogramme définitivemen
 t les émotions négatives présentes ici et maintenant et suscitées 
 par des situations, des évènements vécus par le passé ou anticipé
 s dans le futur.\n\nDeuils insurmontables Tristesse - Colères Peurs -
  Phobies - Tocs Manque de confiance en soi Echecs - Répétitions Dép
 ressions - angoisses Troubles du sommeil Addictions et bien d'autres c
 hoses encore \nTous ces maux qui font des ravages dans notre vie \n\
 nInterprétation gratuite des tests lors de la conférence\n\nCONFEREN
 CE GRATUITE\n\nRéservation Nadège 06.23.01.35.96 ou larcencieldupart
 age@sfr.fr\n\nLieu :\nL'arc en ciel du partage\n1 rue garancière\n111
 00 narbonne\nwww.larcencieldupartage.org\n\nPour plus d'information, a
 ller sur https://epanews.fr/events/conf-rence-gratuite-le-d-tachement-
 des-traumatismes
DTSTART;TZID=Europe/Paris:20160829T183000
DTEND;TZID=Europe/Paris:20160829T210000
CATEGORIES:11
LOCATION:narbonne
WEBSITE:http://www.larcencieldupartage.org
URL:http://www.larcencieldupartage.org
CONTACT:0623013596
ORGANIZER;CN="L'arc en ciel du partage":https://epanews.fr/profile/Lar
 cencieldupartage
ATTACH;FMTTYPE="image/jpeg":http://storage.ning.com/topology/rest/1.0/
 file/get/1663598340?profile=original
ATTENDEE;ROLE=REQ-PARTICIPANT;PARTSTAT=ACCEPTED;RSVP=TRUE;CN="L'arc en
  ciel du partage":https://epanews.fr/profile/Larcencieldupartage
END:VEVENT
END:VCALENDAR
