BEGIN:VCALENDAR
PRODID:NingEventWidget-v1
VERSION:2.0
METHOD:PUBLISH
BEGIN:VTIMEZONE
TZID:Europe/Paris
X-LIC-LOCATION:Europe/Paris
BEGIN:DAYLIGHT
TZOFFSETFROM:+0100
TZOFFSETTO:+0200
TZNAME:CEST
DTSTART:19700329T020000
RRULE:FREQ=YEARLY;BYMONTH=3;BYDAY=-1SU
END:DAYLIGHT
BEGIN:STANDARD
TZOFFSETFROM:+0200
TZOFFSETTO:+0100
TZNAME:CET
DTSTART:19701025T030000
RRULE:FREQ=YEARLY;BYMONTH=10;BYDAY=-1SU
END:STANDARD
END:VTIMEZONE
BEGIN:VEVENT
UID:2485226:Event:2759564
DTSTAMP:20260422T153356Z
SUMMARY:conférence gratuite l'énergétique qu'est ce que c'est?
DESCRIPTION:Conférence gratuite L'énergétique, qu'est ce que c'est?
  par Colette Salvanez - \n\nSamedi 21 janvier 2017 à 18h30\n\nEst ce
  simplement pour certaines personnes? \nOù trouve-t-on l'énergie? 
 \nA quoi ça sert? \nLe magnétisme, le reiki, les massages énergét
 iques, les barreurs de feu, etc ... \nPourquoi nous devrions tous nou
 s servir des énergies, afin d'améliorer notre quotidien, de reprendr
 e contact avec ce qui existe en nous . \nToutes ces questions que vou
 s vous posez ... \nj'essaierai de vous y répondre, de façon simple 
 ... car en fait chacun de nous peut améliorer sa vie au quotidien en 
 se servant de sa propre énergie\n\nRéservations Nadège 06.23.01.35.
 96\n\nlieu :\nL'arc en ciel du partage\n1 rue garancière 11100 narbon
 ne\n\nwww.larcencieldupartage.org\n\nPour plus d'information, aller su
 r https://epanews.fr/events/conf-rence-gratuite-l-nerg-tique-qu-est-ce
 -que-c-est
DTSTART;TZID=Europe/Paris:20170121T183000
DTEND;TZID=Europe/Paris:20170121T200000
CATEGORIES:11
LOCATION:narbonne
WEBSITE:http://www.larcencieldupartage.org
URL:http://www.larcencieldupartage.org
CONTACT:0623013596
ORGANIZER;CN="L'arc en ciel du partage":https://epanews.fr/profile/Lar
 cencieldupartage
ATTACH;FMTTYPE="image/jpeg":http://storage.ning.com/topology/rest/1.0/
 file/get/1663631523?profile=original
ATTENDEE;ROLE=REQ-PARTICIPANT;PARTSTAT=ACCEPTED;RSVP=TRUE;CN="L'arc en
  ciel du partage":https://epanews.fr/profile/Larcencieldupartage
END:VEVENT
END:VCALENDAR
