BEGIN:VCALENDAR
PRODID:NingEventWidget-v1
VERSION:2.0
METHOD:PUBLISH
BEGIN:VTIMEZONE
TZID:Europe/Paris
X-LIC-LOCATION:Europe/Paris
BEGIN:DAYLIGHT
TZOFFSETFROM:+0100
TZOFFSETTO:+0200
TZNAME:CEST
DTSTART:19700329T020000
RRULE:FREQ=YEARLY;BYMONTH=3;BYDAY=-1SU
END:DAYLIGHT
BEGIN:STANDARD
TZOFFSETFROM:+0200
TZOFFSETTO:+0100
TZNAME:CET
DTSTART:19701025T030000
RRULE:FREQ=YEARLY;BYMONTH=10;BYDAY=-1SU
END:STANDARD
END:VTIMEZONE
BEGIN:VEVENT
UID:2485226:Event:2760566
DTSTAMP:20260423T020852Z
SUMMARY:conférence gratuite  Détachement de traumatismes
DESCRIPTION:Conférence gratuite Le détachement de traumatismes par J
 acqueline Dubost , Neurothérapeute - \n\nJeudi 23 Février 2017 à 
 18h30 \n\n Qu'est-ce que le détachement de traumatismes? \n Marti
 ne Clavelli crée en 2003 le détachement de traumatismes. \nCette te
 chnique issue de la PNL, de l'EMDR, de l'hypnose Ericksonienne est une
  technique puissante, rapide et efficace qui déprogramme définitivem
 ent les émotions négatives présentes ici et maintenant et suscitée
 s par des situations, des évènements vécus par le passé ou anticip
 és dans le futur. \n Deuils insurmontables Tristesse - \nColères 
 Peurs - \nPhobies - \nTocs \nManque de confiance en soi \nEchecs -
  Répétitions \nDépressions - angoisses \nTroubles du sommeil \nA
 ddictions et bien d'autres choses encore \n\nTous ces maux qui font d
 es ravages dans notre vie \n Interprétation gratuite des tests lors
  de la conférence \n\nCONFERENCE GRATUITE \n\nRéservation Nadège 
 06.23.01.35.96 ou larcencieldupartage@sfr.fr \n\nLieu : L'arc en ciel
  du partage 1 rue garancière 11100 narbonne\nwww.larcencieldupartage.
 org\n\nPour plus d'information, aller sur https://epanews.fr/events/co
 nf-rence-gratuite-d-tachement-de-traumatismes-1
DTSTART;TZID=Europe/Paris:20170223T183000
DTEND;TZID=Europe/Paris:20170223T200000
CATEGORIES:11
LOCATION:narbonne
WEBSITE:http://www.larcencieldupartage.org
URL:http://www.larcencieldupartage.org
CONTACT:0623013596
ORGANIZER;CN="L'arc en ciel du partage":https://epanews.fr/profile/Lar
 cencieldupartage
ATTACH;FMTTYPE="image/jpeg":http://storage.ning.com/topology/rest/1.0/
 file/get/1663630846?profile=original
ATTENDEE;ROLE=REQ-PARTICIPANT;PARTSTAT=ACCEPTED;RSVP=TRUE;CN="L'arc en
  ciel du partage":https://epanews.fr/profile/Larcencieldupartage
END:VEVENT
END:VCALENDAR
