BEGIN:VCALENDAR
PRODID:NingEventWidget-v1
VERSION:2.0
METHOD:PUBLISH
BEGIN:VTIMEZONE
TZID:Europe/Paris
X-LIC-LOCATION:Europe/Paris
BEGIN:DAYLIGHT
TZOFFSETFROM:+0100
TZOFFSETTO:+0200
TZNAME:CEST
DTSTART:19700329T020000
RRULE:FREQ=YEARLY;BYMONTH=3;BYDAY=-1SU
END:DAYLIGHT
BEGIN:STANDARD
TZOFFSETFROM:+0200
TZOFFSETTO:+0100
TZNAME:CET
DTSTART:19701025T030000
RRULE:FREQ=YEARLY;BYMONTH=10;BYDAY=-1SU
END:STANDARD
END:VTIMEZONE
BEGIN:VEVENT
UID:2485226:Event:2097357
DTSTAMP:20260423T131321Z
SUMMARY:Conférence : femmes , liberté de maternité
DESCRIPTION:Femmes, liberté de maternité\n\n\nPour plus d'informatio
 n, aller sur https://epanews.fr/events/conf-rence-femmes-libert-de-mat
 ernit
DTSTART;TZID=Europe/Paris:20141125T200000
DTEND;TZID=Europe/Paris:20141125T223000
CATEGORIES:35
LOCATION:Cinema Gaumont Rennes
WEBSITE:http://camillaroma.blogspot.fr/2014/11/liberte-de-maternite.ht
 ml
URL:http://camillaroma.blogspot.fr/2014/11/liberte-de-maternite.html
CONTACT:
ORGANIZER;CN="Catherine Soulard":https://epanews.fr/profile/CatherineS
 oulard
ATTACH;FMTTYPE="image/jpeg":http://storage.ning.com/topology/rest/1.0/
 file/get/1663240915?profile=original
ATTENDEE;ROLE=REQ-PARTICIPANT;PARTSTAT=ACCEPTED;RSVP=TRUE;CN="Catherin
 e Soulard":https://epanews.fr/profile/CatherineSoulard
END:VEVENT
END:VCALENDAR
