BEGIN:VCALENDAR
PRODID:NingEventWidget-v1
VERSION:2.0
METHOD:PUBLISH
BEGIN:VTIMEZONE
TZID:Europe/Paris
X-LIC-LOCATION:Europe/Paris
BEGIN:DAYLIGHT
TZOFFSETFROM:+0100
TZOFFSETTO:+0200
TZNAME:CEST
DTSTART:19700329T020000
RRULE:FREQ=YEARLY;BYMONTH=3;BYDAY=-1SU
END:DAYLIGHT
BEGIN:STANDARD
TZOFFSETFROM:+0200
TZOFFSETTO:+0100
TZNAME:CET
DTSTART:19701025T030000
RRULE:FREQ=YEARLY;BYMONTH=10;BYDAY=-1SU
END:STANDARD
END:VTIMEZONE
BEGIN:VEVENT
UID:2485226:Event:829999
DTSTAMP:20260420T195243Z
SUMMARY:Conférence - Expérience: \"Comment rester zen dans son cercl
 e de relations?\"
DESCRIPTION:Conférence et questions réponses à 19h30 avec Joachim P
 ilz \n\n\"Autour de l'environnement\"\n\nEnergie et pollution de l'esp
 rit, énergie et pollution par les énergies fossiles. Existe-t-il un 
 lien entre ces deux dilemmes? \n\nResponsable des programmes solaires
  et des énergies renouvelables en Inde, Joaquim Pilz présentera le p
 rojet sur lequel il travaille depuis deux ans:\nIndia One, une usine s
 olaire thermique dans le Rajasthan.\nBienvenue!\n\nPour plus d'informa
 tion, aller sur https://epanews.fr/events/conf-rence-exp-rience-commen
 t-rester-zen-dans-son-cercle-de-1
DTSTART;TZID=Europe/Paris:20120531T193000
DTEND;TZID=Europe/Paris:20120531T210000
CATEGORIES:75
LOCATION:Paris
WEBSITE:http://fr.mappy.com/map#d=74,+Rue+Orfila,+75020,+20%C3%A8me+Ar
 rondissement+Paris,+Ile-de-France,+France
URL:http://fr.mappy.com/map#d=74,+Rue+Orfila,+75020,+20%C3%A8me+Arrond
 issement+Paris,+Ile-de-France,+France
CONTACT:01 43 58 44 27
ORGANIZER:Centre de Raja Yoga & méditation
ATTACH;FMTTYPE="image/jpeg":http://storage.ning.com/topology/rest/1.0/
 file/get/1662615389?profile=original
ATTENDEE;ROLE=REQ-PARTICIPANT;PARTSTAT=ACCEPTED;RSVP=TRUE;CN="Nicolas 
 Crettex":https://epanews.fr/profile/NicolasCrettex
END:VEVENT
END:VCALENDAR
