BEGIN:VCALENDAR
PRODID:NingEventWidget-v1
VERSION:2.0
METHOD:PUBLISH
BEGIN:VTIMEZONE
TZID:Europe/Paris
X-LIC-LOCATION:Europe/Paris
BEGIN:DAYLIGHT
TZOFFSETFROM:+0100
TZOFFSETTO:+0200
TZNAME:CEST
DTSTART:19700329T020000
RRULE:FREQ=YEARLY;BYMONTH=3;BYDAY=-1SU
END:DAYLIGHT
BEGIN:STANDARD
TZOFFSETFROM:+0200
TZOFFSETTO:+0100
TZNAME:CET
DTSTART:19701025T030000
RRULE:FREQ=YEARLY;BYMONTH=10;BYDAY=-1SU
END:STANDARD
END:VTIMEZONE
BEGIN:VEVENT
UID:2485226:Event:481369
DTSTAMP:20260423T144018Z
SUMMARY:Conférence : Etre parent est un art que la Psychologie Biodyn
 amique invite à développer 
DESCRIPTION:Etre parent est un art fondamental pour le développement 
 de nos enfants et de notre société. Tout enfant porte en lui un \"no
 yau sain\".  Cette personnalité primaire est constituée de fonction
 nements essentiels qui nourrissent tous les plans de son être.  Il
  est bon que l'enfant puisse vivre un certain nombre d'expérience
 s essentielles pour que ceux-ci se déploient.  Au travers des outi
 ls de la PB, il vous sera proposé un itinéraire simple et passionna
 nt afin d'accompagner les enfants à rester en contact avec leur perso
 nnalité profonde.\n \nPar Anne Ducrohet Flammand\nEntrée 3 euros\n\
 nPour plus d'information, aller sur https://epanews.fr/events/conf-ren
 ce-etre-parent-est-un-art-que-la-psychologie-biodynamique
DTSTART;TZID=Europe/Paris:20111119T140000
DTEND;TZID=Europe/Paris:20111119T150000
CATEGORIES:17
LOCATION:La Rochelle
WEBSITE:
URL:
CONTACT:04 67 22 40 50
ORGANIZER;CN="Ecole Biodynamique":https://epanews.fr/profile/EcoleBiod
 ynamique
ATTACH;FMTTYPE="image/jpeg":http://storage.ning.com/topology/rest/1.0/
 file/get/1662450647?profile=original
ATTENDEE;ROLE=REQ-PARTICIPANT;PARTSTAT=ACCEPTED;RSVP=TRUE;CN="Ecole Bi
 odynamique":https://epanews.fr/profile/EcoleBiodynamique
END:VEVENT
END:VCALENDAR
