BEGIN:VCALENDAR
PRODID:NingEventWidget-v1
VERSION:2.0
METHOD:PUBLISH
BEGIN:VTIMEZONE
TZID:Europe/Paris
X-LIC-LOCATION:Europe/Paris
BEGIN:DAYLIGHT
TZOFFSETFROM:+0100
TZOFFSETTO:+0200
TZNAME:CEST
DTSTART:19700329T020000
RRULE:FREQ=YEARLY;BYMONTH=3;BYDAY=-1SU
END:DAYLIGHT
BEGIN:STANDARD
TZOFFSETFROM:+0200
TZOFFSETTO:+0100
TZNAME:CET
DTSTART:19701025T030000
RRULE:FREQ=YEARLY;BYMONTH=10;BYDAY=-1SU
END:STANDARD
END:VTIMEZONE
BEGIN:VEVENT
UID:2485226:Event:1844869
DTSTAMP:20260421T215711Z
SUMMARY:Conférence et stage avec Michel Odent et Liliana Lammers le 1
 5, 16 , 17 & 18 Mai proche de Cannes & Nice
DESCRIPTION:Qui est Michel Odent?\nLe Dr Michel Odent, né en 1930, c
 hirurgien et obstétricien, a dirigé le service chirurgie et la mater
 nité de l'hôpital de Pithiviers de 1962 à 1985. Il a lancé le conc
 ept d'accouchement en salles de naissance « comme à la maison » e
 t les piscines d'accouchement. Il a également été un précurseur du
  chant prénatal.\nPersonnalité mondialement reconnue, apprécié pou
 r sa rigueur scientifique, Michel Odent est l'auteur d'une cinquantain
 e de publications scientifiques et de 11 livres qui ont été traduits
  en 21 langues. Il anime des sessions d'information pour sages-femmes 
 et doulas dans plusieurs pays.\nEn 1985 il s’installe à Londres, et
  accompagne des naissances à domicile. Il y fonde le « Primal Healt
 h Research Centre », dont le but est d'étudier les conséquences de
 s évènements qui se déroulent durant la période primale (de la con
 ception au premier anniversaire) sur la santé et le comportement de l
 'enfant et de l'adulte qu'il deviendra.\nIl milite au niveau internati
 onal en faveur d'un changement des pratiques, en se basant sur l'ensem
 ble des données scientifiques actuelles. \n Pour lui, « il n’e
 st pas possible aujourd’hui que persiste un tel hiatus entre ce qu'i
 l se passe dans les maternités et ce qui est publié ».\n\nConfére
 nce le 15 Mai à 19h30 sur Mandelieu\n\n“La naissance: de la physiol
 ogie à la pratique”\n\nIn-Formation le 16, 17 & 18 Mai à La Colle 
 sur Loup\n\nMichel Odent et Liliana Lammers animeront 3 jours d'in-for
 mation à l'attention de tous les professionnels et futurs professionn
 els, mamans, femmes enceintes, pères, et personnes qui désirent aide
 r d'autres femmes à vivre la plénitude de la maternité (sage femme,
  doula, acconpagnant, ...). Programme: * Physiologie de la naissance
  * Premiers éléments de base d'obstétrique* L'utilisation de l'eau
  durant l'accouchement * Les échographies * Les accouchements provo
 qués * La présence du père durant l'accouchement * La nutrition d
 urant la grossesse * Les conséquences à long terme de notre façon 
 de naître * Les différents tests proposés à la femme enceinte * 
 L'allaitement * La doula en Angleterre \n....et bien d'autres sujets
  3 jours riches en expériences et découvertes.\n \nLieu: Chambres 
 d'hôtes Un ange passe\n \nParticipation pour : les particuliers   
     245€\n                           les professionn
 els  395€\n \nL'argent ne doit pas être une barrière me contacte
 r en cas de besoin.\nStage limité à 30 places! réservez au plus vit
 e :)\nConférence sur reservation également participation unique de 1
 5€\n\n\nPour plus d'information, aller sur https://epanews.fr/events
 /conf-rence-et-stage-avec-michel-odent-et-liliana-lammers-le-15-16
DTSTART;TZID=Europe/Paris:20140515T193000
DTEND;TZID=Europe/Paris:20140518T160000
CATEGORIES:06
LOCATION:Cannes Mandelieu & La Colle sur Loup
WEBSITE:http://www.lessensfeminines.com/michel-odent/
URL:http://www.lessensfeminines.com/michel-odent/
CONTACT:06 14 95 15 70
ORGANIZER;CN=Maganshari:https://epanews.fr/profile/Maganshari
ATTACH;FMTTYPE="image/jpeg":http://storage.ning.com/topology/rest/1.0/
 file/get/1663096935?profile=original
ATTENDEE;ROLE=REQ-PARTICIPANT;PARTSTAT=ACCEPTED;RSVP=TRUE;CN=Maganshar
 i:https://epanews.fr/profile/Maganshari
END:VEVENT
END:VCALENDAR
