BEGIN:VCALENDAR
PRODID:NingEventWidget-v1
VERSION:2.0
METHOD:PUBLISH
BEGIN:VTIMEZONE
TZID:Europe/Paris
X-LIC-LOCATION:Europe/Paris
BEGIN:DAYLIGHT
TZOFFSETFROM:+0100
TZOFFSETTO:+0200
TZNAME:CEST
DTSTART:19700329T020000
RRULE:FREQ=YEARLY;BYMONTH=3;BYDAY=-1SU
END:DAYLIGHT
BEGIN:STANDARD
TZOFFSETFROM:+0200
TZOFFSETTO:+0100
TZNAME:CET
DTSTART:19701025T030000
RRULE:FREQ=YEARLY;BYMONTH=10;BYDAY=-1SU
END:STANDARD
END:VTIMEZONE
BEGIN:VEVENT
UID:2485226:Event:2623639
DTSTAMP:20260422T004558Z
SUMMARY:Conférence et Méditations sur les 9 chakras
DESCRIPTION:Conference sur les 9 chakras \"Chakra\" qui signifie \" Ro
 ue\" ou \"Vortex\" est constitué de votre conscience et de votre syst
 ème énergétique, il vibre à des fréquences plus élevées que vot
 re corps physique.   Présentation des 7 chakras se trouvant dans la p
 rolongation de la colonne vertébrale ainsi que du chakra des Mémoire
 s Akashiques et celui de l’Âme. En avoir connaissance vous permettr
 a de comprendre que nous sommes \"Énergie\" comme tout ce qui nous en
 toure. Cela vous donnera la possibilité également d'aller plus loin 
 dans le raisonnement car vous comprendrez ainsi l'influence de vos pen
 sées sur votre corps physique  Méditation de visualisation avec la d
 éfinition des 9 chakras  Participation libre.  Escalier A\nEtage 2 po
 rte droite, code ascenseur donné en mp.\n\nPour plus d'information, a
 ller sur https://epanews.fr/events/conf-rence-et-m-ditations-sur-les-9
 -chakras
DTSTART;TZID=Europe/Paris:20160416T174500
DTEND;TZID=Europe/Paris:20160416T190000
CATEGORIES:75009
LOCATION:Paris 9eme
WEBSITE:http://www.unite-universelle.com/PBCPPlayer.asp?ID=300383
URL:http://www.unite-universelle.com/PBCPPlayer.asp?ID=300383
CONTACT:01 40 23 06 12 / 06 62 60 26 08
ORGANIZER;CN=HUMBERT:https://epanews.fr/profile/HUMBERT
ATTACH;FMTTYPE="image/jpeg":http://storage.ning.com/topology/rest/1.0/
 file/get/1663551444?profile=original
ATTENDEE;ROLE=REQ-PARTICIPANT;PARTSTAT=ACCEPTED;RSVP=TRUE;CN=HUMBERT:h
 ttps://epanews.fr/profile/HUMBERT
END:VEVENT
END:VCALENDAR
